BEGIN:VCALENDAR
VERSION:2.0
PRODID:-//ChamberMaster//Event Calendar 2.0//EN
METHOD:PUBLISH
X-PUBLISHED-TTL:P3D
REFRESH-INTERVAL:P3D
CALSCALE:GREGORIAN
BEGIN:VEVENT
DTSTART:20210303T180000Z
DTEND:20210303T183000Z
X-MICROSOFT-CDO-ALLDAYEVENT:FALSE
SUMMARY:Chamber Chat Live | Carina Hatfield of Weigner Insurance & Financial Services
DESCRIPTION:March is Women's History Month! In recognition\, Eileen and Danielle of TCACC will be hosting the show and highlighting local woman-owned and operated businesses.\n\n\n\nCarina Hatfield\, owner of Weigner Insurance & Financial Services\, Inc.\, will be joining us to share her story of taking on a multi-generational family business.
X-ALT-DESC;FMTTYPE=text/html:<strong>March is Women&#39\;s History Month! In recognition\, Eileen and Danielle of TCACC will be hosting the show and highlighting local woman-owned and operated businesses.</strong><br />\n<br />\nCarina Hatfield\, owner of <a href="http://www.weignerinsurance.com/">Weigner Insurance &amp\; Financial Services\, Inc.</a>\, will be joining us to share her story of taking on a multi-generational family business.&nbsp\;
LOCATION:Broadcast via Facebook Live on the TCACC page on Wednesday\, March 3 at 1PM. Click here to follow our Facebook page.
UID:e.2183.856502
SEQUENCE:3
DTSTAMP:20260423T181444Z
URL:https://business.tricountyareachamber.com/events/details/chamber-chat-live-carina-hatfield-of-weigner-insurance-financial-services-856502
END:VEVENT

END:VCALENDAR
