BEGIN:VCALENDAR
VERSION:2.0
PRODID:-//ChamberMaster//Event Calendar 2.0//EN
METHOD:PUBLISH
X-PUBLISHED-TTL:P3D
REFRESH-INTERVAL:P3D
CALSCALE:GREGORIAN
BEGIN:VEVENT
DTSTART:20210308T180000Z
DTEND:20210308T183000Z
X-MICROSOFT-CDO-ALLDAYEVENT:FALSE
SUMMARY:Chamber Chat Live | Coach Adrean Turner
DESCRIPTION:"All things are possible if you believe" is Coach Adrean Turner's motto that drives everything she does. Adrean is an author\, leadership coach\, speaker\, professional development trainer and business consultant who left a corporate career to pursue her passion of supporting others to become their best selves and live a life of fulfillment and purpose. Tune in to learn how to "live on purpose" with Adrean! #ChamberChat
X-ALT-DESC;FMTTYPE=text/html:&quot\;All things are possible if you believe&quot\; is <a href="https://coachadrean.com/">Coach Adrean Turner</a>&#39\;s motto that drives everything she does. Adrean is an author\, leadership coach\, speaker\, professional development trainer and business consultant who left a corporate career to pursue her passion of supporting others to become their best selves and live a life of fulfillment and purpose. Tune in to learn how to &quot\;live on purpose&quot\; with Adrean! #ChamberChat
LOCATION:Broadcast via Facebook Live on the TCACC page on Monday\, March 8 at 1PM. Click here to follow our Facebook page.
UID:e.2183.856517
SEQUENCE:3
DTSTAMP:20260423T181007Z
URL:https://business.tricountyareachamber.com/events/details/chamber-chat-live-coach-adrean-turner-856517
END:VEVENT

END:VCALENDAR
