BEGIN:VCALENDAR
VERSION:2.0
PRODID:-//ChamberMaster//Event Calendar 2.0//EN
METHOD:PUBLISH
X-PUBLISHED-TTL:P3D
REFRESH-INTERVAL:P3D
CALSCALE:GREGORIAN
BEGIN:VEVENT
DTSTART:20211027T173000Z
DTEND:20211027T180000Z
X-MICROSOFT-CDO-ALLDAYEVENT:FALSE
SUMMARY:Chamber Chat Live | Denise Williams\, Be ReZilient\, Healing Through the Arts
DESCRIPTION:Tune into this episode of Chamber Chat Live to hear from Denise Williams of Be ReZilient\n\n\n\nAbout Be ReZilient\n\nBe ReZilient\, Healing Through The Arts\, believes in the power of coaching infused with art\, and aromatherapy provides ways for you to release emotions and remove barriers.\n\nThe Be ReZilient is designed to support you during critical life transitions.
X-ALT-DESC;FMTTYPE=text/html:<span style="font-size:14px\;">Tune into this episode of Chamber Chat Live to hear from Denise Williams of Be ReZilient<br />\n<br />\n<u><strong>About Be ReZilient</strong></u></span><br />\nBe ReZilient\, Healing Through The Arts\, believes in the power of coaching infused with art\, and aromatherapy provides ways for you to release emotions and remove barriers.<br />\nThe Be ReZilient is designed to support you during critical life transitions.<br />\n<br />\n&nbsp\;
LOCATION:Broadcast via Facebook Live on the TCACC page on Monday\, October 27th at 1:30-2PM. Click here to follow our Facebook page.
UID:e.2183.856806
SEQUENCE:3
DTSTAMP:20260422T084329Z
URL:https://business.tricountyareachamber.com/events/details/chamber-chat-live-denise-williams-be-rezilient-healing-through-the-arts-856806
END:VEVENT

END:VCALENDAR
