BEGIN:VCALENDAR
VERSION:2.0
PRODID:-//ChamberMaster//Event Calendar 2.0//EN
METHOD:PUBLISH
X-PUBLISHED-TTL:P3D
REFRESH-INTERVAL:P3D
CALSCALE:GREGORIAN
BEGIN:VEVENT
DTSTART:20220223T180000Z
DTEND:20220223T183000Z
X-MICROSOFT-CDO-ALLDAYEVENT:FALSE
SUMMARY:Chamber Chat Live | Eileen Dautrich\, TriCounty Area Chamber of Commerce
DESCRIPTION:Tune into this episode of Chamber Chat Live to hear from Eileen Dautrich of TriCounty Area Chamber of Commerce.\n\n\n\nMarch 2019\, Eileen celebrated her 20-year anniversary with the Chamber. As President of the Chamber\, Eileen is responsible for building relationships with the members and the community as well expanding the organization's programs\, member benefits and continuing to manage the daily activities of the organization. Eileen also serves as the director of the TriCounty Area Chamber of Commerce Foundation\, Inc.\n\n\n\nEileen's ongoing professional development has included graduating from the U.S. Chamber's four-year program\, the Institute for Organization Management\, in 2005 and graduating from the Leadership Tri-County program in 2000. She attends various seminars and participates in webinars every year that help strengthen her business knowledge and allow her to greater assist TCACC and its members. In 2013 Eileen was awarded the Pennsylvania Certified Chamber Executive designation from the Pennsylvania Association of Chamber Professionals. The program is designed to recognize leadership and managerial excellence among Pennsylvania's chamber professionals\, commitment to continued professional growth and development\, dedication to the chamber profession\, and demonstrated leadership in state\, regional\, and national chamber professional organizations. The program assesses a candidate's qualifications in the areas of chamber experience\, professional development completed\, organizational and personal achievements in the profession\, and leadership within and contributions to the chamber profession\n\n\n\nHer favorite part of working at the Chamber is that she is passionate about what the Chamber stands for in the tri-county community and the satisfaction of being able to help the local\, small businesses\, and the community at large through her daily activities.\n\n\n\nIn 1990\, Eileen Dautrich began working for TCACC as a student intern in the Boyertown Area Chamber of Commerce office. She returned to the Chamber a number of times\, working in various capacities and eventually being hired as the Vice President of Administration in 1999. Eileen was promoted to Executive Vice President in 2006. With the reorganization of the Chamber in fall of 2010\, Eileen was promoted to President of the TriCounty Chamber effective November 1\, 2010. Eileen is passionate about her 22 years of experience benefitting the Members of this organization.\n\n\n\nEileen is currently the Treasurer of Pottstown Area Economic Development and as a result serves as a member of the executive committee and board of directors.
X-ALT-DESC;FMTTYPE=text/html:<span style="font-size:14px\;">Tune into this episode of Chamber Chat Live to hear from Eileen Dautrich of TriCounty Area Chamber of Commerce.<br />\n<br />\n<span style="font-family: Verdana\, Arial\, sans-serif\, &quot\;trebuchet MS&quot\;\, trebuchet\;">March 2019\, Eileen celebrated her 20-year anniversary with the Chamber. As President of the Chamber\, Eileen is responsible for building relationships with the members and the community as well expanding the organization&rsquo\;s programs\, member benefits and continuing to manage the daily activities of the organization. Eileen also serves as the director of the TriCounty Area Chamber of Commerce Foundation\, Inc.</span><br style="font-family: Verdana\, Arial\, sans-serif\, &quot\;trebuchet MS&quot\;\, trebuchet\; font-size: 15px\;" />\n<br style="font-family: Verdana\, Arial\, sans-serif\, &quot\;trebuchet MS&quot\;\, trebuchet\; font-size: 15px\;" />\n<span style="font-family: Verdana\, Arial\, sans-serif\, &quot\;trebuchet MS&quot\;\, trebuchet\;">Eileen&#39\;s ongoing professional development has included graduating from the U.S. Chamber&rsquo\;s four-year program\, the Institute for Organization Management\, in 2005 and graduating from the Leadership Tri-County program in 2000. She attends various seminars and participates in webinars every year that help strengthen her business knowledge and allow her to greater assist TCACC and its members. In 2013 Eileen was awarded the Pennsylvania Certified Chamber Executive designation from the Pennsylvania Association of Chamber Professionals. The program is designed to recognize leadership and managerial excellence among Pennsylvania&rsquo\;s chamber professionals\, commitment to continued professional growth and development\, dedication to the chamber profession\, and demonstrated leadership in state\, regional\, and national chamber professional organizations. The program assesses a candidate&rsquo\;s qualifications in the areas of chamber experience\, professional development completed\, organizational and personal achievements in the profession\, and leadership within and contributions to the chamber profession</span><br style="font-family: Verdana\, Arial\, sans-serif\, &quot\;trebuchet MS&quot\;\, trebuchet\; font-size: 15px\;" />\n<br style="font-family: Verdana\, Arial\, sans-serif\, &quot\;trebuchet MS&quot\;\, trebuchet\; font-size: 15px\;" />\n<span style="font-family: Verdana\, Arial\, sans-serif\, &quot\;trebuchet MS&quot\;\, trebuchet\;">Her favorite part of working at the Chamber is that she is passionate about what the Chamber stands for in the tri-county community and the satisfaction of being able to help the local\, small businesses\, and the community at large through her daily activities.</span><br style="font-family: Verdana\, Arial\, sans-serif\, &quot\;trebuchet MS&quot\;\, trebuchet\; font-size: 15px\;" />\n<br style="font-family: Verdana\, Arial\, sans-serif\, &quot\;trebuchet MS&quot\;\, trebuchet\; font-size: 15px\;" />\n<span style="font-family: Verdana\, Arial\, sans-serif\, &quot\;trebuchet MS&quot\;\, trebuchet\;">In 1990\, Eileen Dautrich began working for TCACC as a student intern in the Boyertown Area Chamber of Commerce office. She returned to the Chamber a number of times\, working in various capacities and eventually being hired as the Vice President of Administration in 1999. Eileen was promoted to Executive Vice President in 2006. With the reorganization of the Chamber in fall of 2010\, Eileen was promoted to President of the TriCounty Chamber effective November 1\, 2010. Eileen is passionate about her 22 years of experience benefitting the Members of this organization.</span><br style="font-family: Verdana\, Arial\, sans-serif\, &quot\;trebuchet MS&quot\;\, trebuchet\; font-size: 15px\;" />\n<br style="font-family: Verdana\, Arial\, sans-serif\, &quot\;trebuchet MS&quot\;\, trebuchet\; font-size: 15px\;" />\n<span style="font-family: Verdana\, Arial\, sans-serif\, &quot\;trebuchet MS&quot\;\, trebuchet\;">Eileen is currently the Treasurer of Pottstown Area Economic Development and as a result serves as a member of the executive committee and board of directors.</span></span>
LOCATION:Broadcast via Facebook Live on the TCACC page on Wednesday\, February 23rd at 1PM. Click here to follow our Facebook page. Broadcast is also available via LinkedIn Live on the TCACC page - Click here.
UID:e.2183.857546
SEQUENCE:3
DTSTAMP:20260423T025012Z
URL:https://business.tricountyareachamber.com/events/details/chamber-chat-live-eileen-dautrich-tricounty-area-chamber-of-commerce-857546
END:VEVENT

END:VCALENDAR
