BEGIN:VCALENDAR
VERSION:2.0
PRODID:-//ChamberMaster//Event Calendar 2.0//EN
METHOD:PUBLISH
X-PUBLISHED-TTL:P3D
REFRESH-INTERVAL:P3D
CALSCALE:GREGORIAN
BEGIN:VEVENT
DTSTART:20210217T180000Z
DTEND:20210217T183000Z
X-MICROSOFT-CDO-ALLDAYEVENT:FALSE
SUMMARY:Chamber Chat Live | Heather Chandler of Sealstrip Corporation
DESCRIPTION:Sealstrip Corporation provides easy open and resealable features to some of America's largest and best-known companies. Heather Chandler\, President\, will be sharing more about the company\, their history\, and their deliberate growth on this episode of Chamber Chat.\n\nLearn more about Sealstrip Corporation\n\nConnect with Heather
X-ALT-DESC;FMTTYPE=text/html:<span style="font-size: 12px\;">Sealstrip Corporation provides easy open and resealable features to some of America&#39\;s largest and best-known companies. Heather Chandler\, President\, will be sharing more about the company\, their history\, and their deliberate growth on this episode of Chamber Chat.</span><br />\n<a href="https://sealstrip.com/">Learn more about Sealstrip Corporation</a><br />\n<a href="https://www.linkedin.com/in/heatherchandlersealstrip/">Connect with Heather</a>
LOCATION:Broadcast via Facebook Live on the TCACC page on Wednesday\, February 17 at 1PM. Click here to follow our Facebook page.
UID:e.2183.856480
SEQUENCE:3
DTSTAMP:20260419T134353Z
URL:https://business.tricountyareachamber.com/events/details/chamber-chat-live-heather-chandler-of-sealstrip-corporation-856480
END:VEVENT

END:VCALENDAR
