BEGIN:VCALENDAR
VERSION:2.0
PRODID:-//ChamberMaster//Event Calendar 2.0//EN
METHOD:PUBLISH
X-PUBLISHED-TTL:P3D
REFRESH-INTERVAL:P3D
CALSCALE:GREGORIAN
BEGIN:VEVENT
DTSTART:20210310T180000Z
DTEND:20210310T183000Z
X-MICROSOFT-CDO-ALLDAYEVENT:FALSE
SUMMARY:Chamber Chat Live | Jenna Armato\, Growth & Success Coach
DESCRIPTION:Jenna Armato\, Growth & Success Coach\, is on a mission to help people facilitate growth in the lives of others. After leaving her corporate career\, she joined the John Maxwell Team in 2017 and now coaches individuals\, businesses\, and non-profit organizations in leadership development\, growth & resilience\, and effective communications. Hear her story of stepping outside of her comfort zone to make a big career change\, and what she does today to empower others.\n\nConnect with Jenna
X-ALT-DESC;FMTTYPE=text/html:<span style="font-size: 12px\;">Jenna Armato\, Growth &amp\; Success Coach\, is on a mission to help people facilitate growth in the lives of others. After leaving her corporate career\, she joined the John Maxwell Team in 2017 and now coaches individuals\, businesses\, and non-profit organizations in leadership development\, growth &amp\; resilience\, and effective communications. Hear her story of stepping outside of her comfort zone to make a big career change\, and what she does today to empower others.</span><br />\n<a href="https://www.linkedin.com/in/jennaarmato/">Connect with Jenna</a>
LOCATION:Broadcast via Facebook Live on the TCACC page on Wednesday\, March 10 at 1PM. Click here to follow our Facebook page.
UID:e.2183.856518
SEQUENCE:3
DTSTAMP:20260423T193810Z
URL:https://business.tricountyareachamber.com/events/details/chamber-chat-live-jenna-armato-growth-success-coach-856518
END:VEVENT

END:VCALENDAR
