BEGIN:VCALENDAR
VERSION:2.0
PRODID:-//ChamberMaster//Event Calendar 2.0//EN
METHOD:PUBLISH
X-PUBLISHED-TTL:P3D
REFRESH-INTERVAL:P3D
CALSCALE:GREGORIAN
BEGIN:VEVENT
DTSTART:20210322T170000Z
DTEND:20210322T173000Z
X-MICROSOFT-CDO-ALLDAYEVENT:FALSE
SUMMARY:Chamber Chat Live | Jessica Zeigler-Cihlar of Village Architecture & Preservation
DESCRIPTION:Join us for a Chamber Chat Live with Jessica Zeigler-Cihlar of Village Architecture & Preservation.
X-ALT-DESC;FMTTYPE=text/html:<span style="font-size: 12px\;">Join us for a Chamber Chat Live with Jessica Zeigler-Cihlar of <a href="http://village-architecture.com/">Village Architecture &amp\; Preservation</a>.&nbsp\;</span>
LOCATION:Broadcast via Facebook Live on the TCACC page on Monday\, March 22 at 1PM. Click here to follow our Facebook page.
UID:e.2183.856523
SEQUENCE:3
DTSTAMP:20260423T181418Z
URL:https://business.tricountyareachamber.com/events/details/chamber-chat-live-jessica-zeigler-cihlar-of-village-architecture-preservation-856523
END:VEVENT

END:VCALENDAR
