BEGIN:VCALENDAR
VERSION:2.0
PRODID:-//ChamberMaster//Event Calendar 2.0//EN
METHOD:PUBLISH
X-PUBLISHED-TTL:P3D
REFRESH-INTERVAL:P3D
CALSCALE:GREGORIAN
BEGIN:VEVENT
DTSTART:20220309T180000Z
DTEND:20220309T183000Z
X-MICROSOFT-CDO-ALLDAYEVENT:FALSE
SUMMARY:Chamber Chat Live | John Ralston 98.5 FM WXPM Phoenixville
DESCRIPTION:Tune into this episode of Chamber Chat Live to hear from John Ralston from 98.5 FM WXPM Phoenixville. \n\nTopics include some of the following:\n1. Community commitment remains unchanged\n\n2. WXPM welcomes Nick Lawrence from WEEU\n\n3. Summer fundraiser coming soon
X-ALT-DESC;FMTTYPE=text/html:<span style="font-size:14px\;">Tune into this episode of Chamber Chat Live to hear from John Ralston from&nbsp\;</span>98.5 FM WXPM Phoenixville.&nbsp\;<br />\nTopics include some of the following:\n<div dir="auto" style="font-family: &quot\;Segoe UI Historic&quot\;\, &quot\;Segoe UI&quot\;\, Helvetica\, Arial\, sans-serif\; color: rgb(5\, 5\, 5)\; font-size: 15px\; white-space: pre-wrap\;">1. Community commitment remains unchanged</div>\n\n<div dir="auto" style="font-family: &quot\;Segoe UI Historic&quot\;\, &quot\;Segoe UI&quot\;\, Helvetica\, Arial\, sans-serif\; color: rgb(5\, 5\, 5)\; font-size: 15px\; white-space: pre-wrap\;">2. WXPM welcomes Nick Lawrence from WEEU</div>\n\n<div dir="auto" style="font-family: &quot\;Segoe UI Historic&quot\;\, &quot\;Segoe UI&quot\;\, Helvetica\, Arial\, sans-serif\; color: rgb(5\, 5\, 5)\; font-size: 15px\; white-space: pre-wrap\;">3. Summer fundraiser coming soon</div>\n
LOCATION:Broadcast via Facebook\, Linkedin\, Twitter Live on the TCACC page on Wednesday\, March 9th at 1PM. Click here to follow our Facebook page. Broadcast is also available via LinkedIn Live on the TCACC page - Click here. Broadcast is also available on Twitter - Click here.
UID:e.2183.857621
SEQUENCE:3
DTSTAMP:20260420T195027Z
URL:https://business.tricountyareachamber.com/events/details/chamber-chat-live-john-ralston-98-5-fm-wxpm-phoenixville-857621
END:VEVENT

END:VCALENDAR
