BEGIN:VCALENDAR
VERSION:2.0
PRODID:-//ChamberMaster//Event Calendar 2.0//EN
METHOD:PUBLISH
X-PUBLISHED-TTL:P3D
REFRESH-INTERVAL:P3D
CALSCALE:GREGORIAN
BEGIN:VEVENT
DTSTART:20211110T180000Z
DTEND:20211110T183000Z
X-MICROSOFT-CDO-ALLDAYEVENT:FALSE
SUMMARY:Chamber Chat Live | Joseph Bergquist\, Harleysville Bank
DESCRIPTION:Tune into this episode of Chamber Chat Live to hear from Joseph Bergquist of Harleysville Bank
X-ALT-DESC;FMTTYPE=text/html:<span style="font-size:14px\;">Tune into this episode of Chamber Chat Live to hear from&nbsp\;</span>Joseph Bergquist of Harleysville Bank<br />\n<br />\n<br />\n<br />\n&nbsp\;
LOCATION:Broadcast via Facebook Live on the TCACC page on Wednesday\, November 10th at 1PM. Click here to follow our Facebook page.
UID:e.2183.856816
SEQUENCE:3
DTSTAMP:20260419T223304Z
URL:https://business.tricountyareachamber.com/events/details/chamber-chat-live-joseph-bergquist-harleysville-bank-856816
END:VEVENT

END:VCALENDAR
