BEGIN:VCALENDAR
VERSION:2.0
PRODID:-//ChamberMaster//Event Calendar 2.0//EN
METHOD:PUBLISH
X-PUBLISHED-TTL:P3D
REFRESH-INTERVAL:P3D
CALSCALE:GREGORIAN
BEGIN:VEVENT
DTSTART:20210324T170000Z
DTEND:20210324T173000Z
X-MICROSOFT-CDO-ALLDAYEVENT:FALSE
SUMMARY:Chamber Chat Live | Kim Mack of HR Intended\, LLC
DESCRIPTION:Join us for a Chamber Chat Live with Kim Mack of HR Intended\, LLC.
X-ALT-DESC;FMTTYPE=text/html:<span style="font-size: 12px\;">Join us for a Chamber Chat Live with Kim Mack of <a href="https://hrintended.com/">HR Intended\, LLC</a>.&nbsp\;</span>
LOCATION:Broadcast via Facebook Live on the TCACC page on Wednesday\, March 24 at 1PM. Click here to follow our Facebook page.
UID:e.2183.856524
SEQUENCE:3
DTSTAMP:20260423T181407Z
URL:https://business.tricountyareachamber.com/events/details/chamber-chat-live-kim-mack-of-hr-intended-llc-856524
END:VEVENT

END:VCALENDAR
