BEGIN:VCALENDAR
VERSION:2.0
PRODID:-//ChamberMaster//Event Calendar 2.0//EN
METHOD:PUBLISH
X-PUBLISHED-TTL:P3D
REFRESH-INTERVAL:P3D
CALSCALE:GREGORIAN
BEGIN:VEVENT
DTSTART:20210125T180000Z
DTEND:20210125T183000Z
X-MICROSOFT-CDO-ALLDAYEVENT:FALSE
SUMMARY:Chamber Chat Live | Kim & Rose of Arcadia at Limerick Pointe
DESCRIPTION:Join us for Chamber Chat Live with Kim Kostival & Rose Ann Klementisz of Arcadia at Limerick Pointe!\n\n\n\nVisit Arcadia at Limerick Pointe's website
X-ALT-DESC;FMTTYPE=text/html:Join us for Chamber Chat Live with Kim Kostival &amp\; Rose Ann Klementisz&nbsp\;of Arcadia at Limerick Pointe!<br />\n<br />\n<a href="https://coachadrean.com/">Visit Arcadia at Limerick Pointe&#39\;s website</a>
LOCATION:Broadcast via Facebook Live on the TCACC page on Monday\, January 25 at 1PM. Click here to follow our Facebook page.
UID:e.2183.856448
SEQUENCE:3
DTSTAMP:20260419T150111Z
URL:https://business.tricountyareachamber.com/events/details/chamber-chat-live-kim-rose-of-arcadia-at-limerick-pointe-856448
END:VEVENT

END:VCALENDAR
