BEGIN:VCALENDAR
VERSION:2.0
PRODID:-//ChamberMaster//Event Calendar 2.0//EN
METHOD:PUBLISH
X-PUBLISHED-TTL:P3D
REFRESH-INTERVAL:P3D
CALSCALE:GREGORIAN
BEGIN:VEVENT
DTSTART:20210301T180000Z
DTEND:20210301T183000Z
X-MICROSOFT-CDO-ALLDAYEVENT:FALSE
SUMMARY:Chamber Chat Live | Kristen Sirbak of Beverly's Pastry Shop
DESCRIPTION:March is Women's History Month! In recognition\, Eileen and Danielle of TCACC will be hosting the show and highlighting local woman-owned and operated businesses.\n\n\n\nAfter years of working for other people and corporations\, Kristen Sirbak decided to pursue her passion and take ownership of Beverly's Pastry Shop\, Pottstown's local bakery for over 40 years. Kristen will be sharing the story of her career as well as her current Downtown Lady Bosses initiative that is highlighting professional women in the Pottstown area.
X-ALT-DESC;FMTTYPE=text/html:<strong>March is Women&#39\;s History Month! In recognition\, Eileen and Danielle of TCACC will be hosting the show and highlighting local woman-owned and operated businesses.</strong><br />\n<br />\nAfter years of working for other people and corporations\, Kristen Sirbak decided to pursue her passion and take ownership of <a href="https://beverlyspastryshop.com/">Beverly&#39\;s Pastry Shop</a>\, Pottstown&#39\;s local bakery for over 40 years. Kristen will be sharing the story of her career as well as her current Downtown Lady Bosses initiative that is highlighting professional women in the Pottstown area.&nbsp\;
LOCATION:Broadcast via Facebook Live on the TCACC page on Monday\, March 1 at 1PM. Click here to follow our Facebook page.
UID:e.2183.856501
SEQUENCE:3
DTSTAMP:20260423T181445Z
URL:https://business.tricountyareachamber.com/events/details/chamber-chat-live-kristen-sirbak-of-beverly-s-pastry-shop-856501
END:VEVENT

END:VCALENDAR
