BEGIN:VCALENDAR
VERSION:2.0
PRODID:-//ChamberMaster//Event Calendar 2.0//EN
METHOD:PUBLISH
X-PUBLISHED-TTL:P3D
REFRESH-INTERVAL:P3D
CALSCALE:GREGORIAN
BEGIN:VEVENT
DTSTART:20210331T170000Z
DTEND:20210331T173000Z
X-MICROSOFT-CDO-ALLDAYEVENT:FALSE
SUMMARY:Chamber Chat Live | Kristi Gage of Gage Personnel
DESCRIPTION:Join us for a Chamber Chat Live with Kristi Gage of Gage Personnel.
X-ALT-DESC;FMTTYPE=text/html:<span style="font-size: 12px\;">Join us for a Chamber Chat Live with Kristi Gage of <a href="https://www.gagepersonnel.com/">Gage Personnel</a>.</span>
LOCATION:Broadcast via Facebook Live on the TCACC page on Wednesday\, March 31 at 1PM. Click here to follow our Facebook page.
UID:e.2183.856525
SEQUENCE:3
DTSTAMP:20260423T181417Z
URL:https://business.tricountyareachamber.com/events/details/chamber-chat-live-kristi-gage-of-gage-personnel-856525
END:VEVENT

END:VCALENDAR
