BEGIN:VCALENDAR
VERSION:2.0
PRODID:-//ChamberMaster//Event Calendar 2.0//EN
METHOD:PUBLISH
X-PUBLISHED-TTL:P3D
REFRESH-INTERVAL:P3D
CALSCALE:GREGORIAN
BEGIN:VEVENT
DTSTART:20220406T170000Z
DTEND:20220406T173000Z
X-MICROSOFT-CDO-ALLDAYEVENT:FALSE
SUMMARY:Chamber Chat Live | Leena Devlin from Steel River Playhouse
DESCRIPTION:Tune into this episode of Chamber Chat Live to hear from Leena Devlin of Steel River Playhouse.
X-ALT-DESC;FMTTYPE=text/html:<span style="font-size:14px\;">Tune into this episode of Chamber Chat Live to hear from Leena Devlin of Steel River Playhouse.</span>
LOCATION:Broadcast via Facebook\, Linkedin\, Twitter Live on the TCACC page on Wednesday\, April 6th at 1PM. Click here to follow our Facebook page. Broadcast is also available via LinkedIn Live on the TCACC page - Click here. Broadcast is also available on Twitter - Click here.
UID:e.2183.857661
SEQUENCE:3
DTSTAMP:20260420T175642Z
URL:https://business.tricountyareachamber.com/events/details/chamber-chat-live-leena-devlin-from-steel-river-playhouse-857661
END:VEVENT

END:VCALENDAR
