BEGIN:VCALENDAR
VERSION:2.0
PRODID:-//ChamberMaster//Event Calendar 2.0//EN
METHOD:PUBLISH
X-PUBLISHED-TTL:P3D
REFRESH-INTERVAL:P3D
CALSCALE:GREGORIAN
BEGIN:VEVENT
DTSTART:20220413T170000Z
DTEND:20220413T173000Z
X-MICROSOFT-CDO-ALLDAYEVENT:FALSE
SUMMARY:Chamber Chat Live | Lynn Cohen from American Red Cross - Delaware Valley Chapter
DESCRIPTION:Tune into this episode of Chamber Chat Live to hear from Lynn Cohen of American Red Cross - Delaware Valley Chapter to hear about Giving back to Humanity   Volunteering with the American Red Cross.
X-ALT-DESC;FMTTYPE=text/html:<span style="font-size:14px\;">Tune into this episode of Chamber Chat Live to hear from Lynn Cohen of&nbsp\;</span>American Red Cross - Delaware Valley Chapter to hear about&nbsp\;Giving back to Humanity &ndash\; Volunteering with the American Red Cross.&nbsp\;
LOCATION:Broadcast via Facebook\, Linkedin\, Twitter Live on the TCACC page on Wednesday\, April 13th at 1PM. Click here to follow our Facebook page. Broadcast is also available via LinkedIn Live on the TCACC page - Click here. Broadcast is also available on Twitter - Click here.
UID:e.2183.857662
SEQUENCE:3
DTSTAMP:20260420T175816Z
URL:https://business.tricountyareachamber.com/events/details/chamber-chat-live-lynn-cohen-from-american-red-cross-delaware-valley-chapter-857662
END:VEVENT

END:VCALENDAR
