BEGIN:VCALENDAR
VERSION:2.0
PRODID:-//ChamberMaster//Event Calendar 2.0//EN
METHOD:PUBLISH
X-PUBLISHED-TTL:P3D
REFRESH-INTERVAL:P3D
CALSCALE:GREGORIAN
BEGIN:VEVENT
DTSTART:20211108T183000Z
DTEND:20211108T190000Z
X-MICROSOFT-CDO-ALLDAYEVENT:FALSE
SUMMARY:Chamber Chat Live | Michelle Jones Wurtz\, Pottstown Dance Theatre
DESCRIPTION:Tune into this episode of Chamber Chat Live to hear from Michelle Jones Wurtz of Pottstown Dance Theatre\n\n\n\nAbout Pottstown Dance Theatre\n\nFounded in 1964\, Pottstown Dance Theatre provides exceptional education in the art of dance. We have positively affected dance students' lives for over fifty years and have consistently been voted "Best Dance School" by Mercury Readers for over a decade.
X-ALT-DESC;FMTTYPE=text/html:<span style="font-size:14px\;">Tune into this episode of Chamber Chat Live to hear from&nbsp\;</span>Michelle Jones Wurtz of Pottstown Dance Theatre<br />\n<br />\n<span style="font-size:14px\;"><u><strong>About&nbsp\;</strong></u></span><u><strong>Pottstown Dance Theatre</strong></u><br />\nFounded in 1964\, Pottstown Dance Theatre provides exceptional education in the art of dance. We have positively affected dance students&rsquo\; lives for over fifty years and have consistently been voted &ldquo\;Best Dance School&rdquo\; by Mercury Readers for over a decade.<br />\n<br />\n<br />\n&nbsp\;
LOCATION:Broadcast via Facebook Live on the TCACC page on Monday\, November 8th at 1PM. Click here to follow our Facebook page.
UID:e.2183.856813
SEQUENCE:3
DTSTAMP:20260423T072554Z
URL:https://business.tricountyareachamber.com/events/details/chamber-chat-live-michelle-jones-wurtz-pottstown-dance-theatre-856813
END:VEVENT

END:VCALENDAR
