BEGIN:VCALENDAR
VERSION:2.0
PRODID:-//ChamberMaster//Event Calendar 2.0//EN
METHOD:PUBLISH
X-PUBLISHED-TTL:P3D
REFRESH-INTERVAL:P3D
CALSCALE:GREGORIAN
BEGIN:VEVENT
DTSTART:20210517T170000Z
DTEND:20210517T173000Z
X-MICROSOFT-CDO-ALLDAYEVENT:FALSE
SUMMARY:Chamber Chat Live | Peggy Lee-Clark\, Pottstown Area Industrial Development (PAID)\, Inc.
DESCRIPTION:2020 was undeniably a challenging year for all businesses in a multitude of ways. Peggy Lee-Clark\, Executive Director of Pottstown Area Industrial Development (PAID)\, Inc.\, will be going inside the recently-released PAID 2020 Annual Report\, which highlights the resilience of the Pottstown business community throughout the pandemic and showcases some exciting upcoming revitalization and development projects for Pottstown. \n\n\n\nLearn more about PAID\n\nConnect with Peggy\n\nFollow PAID on: Facebook | LinkedIn
X-ALT-DESC;FMTTYPE=text/html:<span style="font-size:14px\;">2020 was undeniably a challenging year for all businesses in a multitude of ways. <strong>Peggy Lee-Clark</strong>\, Executive Director of Pottstown Area Industrial Development (PAID)\, Inc.\, will be going inside the recently-released PAID 2020 Annual Report\, which highlights the resilience of the Pottstown business community throughout the pandemic and showcases some exciting upcoming revitalization and development projects for Pottstown.&nbsp\;<br />\n<br />\n<a href="https://www.paidinc.org/">Learn more about PAID</a><br />\n<a href="https://www.linkedin.com/in/peggy-lee-clark-22688213/">Connect with Peggy</a><br />\nFollow PAID on: <a href="https://www.facebook.com/IPickPottstown/">Facebook</a> | <a href="https://www.linkedin.com/company/pottstown-area-industrial-development-inc-/?viewAsMember=true">LinkedIn</a>&nbsp\;</span>
LOCATION:Broadcast via Facebook Live on the TCACC page on Monday\, May 17. Click here to follow our Facebook page. Can't tune into the live episode? Don't worry - all episodes are uploaded to our YouTube channel and Anchor podcasts for you to enjoy at any time!
UID:e.2183.856615
SEQUENCE:3
DTSTAMP:20260423T150001Z
URL:https://business.tricountyareachamber.com/events/details/chamber-chat-live-peggy-lee-clark-pottstown-area-industrial-development-paid-inc-856615
END:VEVENT

END:VCALENDAR
