BEGIN:VCALENDAR
VERSION:2.0
PRODID:-//ChamberMaster//Event Calendar 2.0//EN
METHOD:PUBLISH
X-PUBLISHED-TTL:P3D
REFRESH-INTERVAL:P3D
CALSCALE:GREGORIAN
BEGIN:VEVENT
DTSTART:20160525T223500Z
DTEND:20160526T013000Z
X-MICROSOFT-CDO-ALLDAYEVENT:FALSE
SUMMARY:Chamber Night at the Reading Fightin Phils
DESCRIPTION:Join thousands of fellow TCACC Members at the Reading Fightin' Phils game versus the Erie Sea Wolves.\n\n\n\nComplimentary General Admission tickets are one of your Member Benefits thanks to the many sponsors of this event.  Tickets will be included in your May edition of the Route 422 Business Advisor. \n\n\n\n\n\nTompkins VIST Bank Plaza opens at 5:00 PM\, seating area opens at 6:00 PM.\n\nRain date: Sunday\, June 5\, 2:05 PM
X-ALT-DESC;FMTTYPE=text/html:<title></title>\n<p>Join thousands of fellow TCACC Members at the Reading Fightin&#39\; Phils game versus the Erie&nbsp\;Sea Wolves.<br />\n<br />\n<span style="font-size:12px\;"><span style="font-family:arial\;">Complimentary General Admission tickets are one of your <strong>Member Benefits</strong> thanks to the many sponsors of this event.&nbsp\; Tickets will be included in your May edition of the Route 422 Business Advisor.&nbsp\;</span></span><br />\n<br />\n<br />\nTompkins&nbsp\;VIST Bank Plaza opens at 5:00 PM\, seating area opens at 6:00&nbsp\;PM.</p>\n\n<p style="text-align: justify\;">Rain date: Sunday\, June 5\, 2:05 PM<br />\n&nbsp\;</p>\n
LOCATION:Tompkins VIST Bank Plaza 1900 Centre Ave./Rt. 61 South Reading\, PA 19605
UID:e.2183.845128
SEQUENCE:3
DTSTAMP:20260425T142950Z
URL:https://business.tricountyareachamber.com/events/details/chamber-night-at-the-reading-fightin-phils-05-25-2016-845128
END:VEVENT

END:VCALENDAR
