BEGIN:VCALENDAR
VERSION:2.0
PRODID:-//ChamberMaster//Event Calendar 2.0//EN
METHOD:PUBLISH
X-PUBLISHED-TTL:P3D
REFRESH-INTERVAL:P3D
CALSCALE:GREGORIAN
BEGIN:VEVENT
DTSTART:20170531T211500Z
DTEND:20170601T013000Z
X-MICROSOFT-CDO-ALLDAYEVENT:FALSE
SUMMARY:Chamber Night at the Reading Fightin Phils
DESCRIPTION:**GAME TIME HAS CHANGED TO 5:15 PM**\n\nJoin thousands of fellow TCACC Members at the Reading Fightin' Phils game versus the Portland Sea Dogs.\n\n\n\nComplimentary General Admission tickets are one of your Member Benefits thanks to the many sponsors of this event. 4 Tickets will be included in your May edition of the Route 422 Business Advisor. If you would like additional tickets\, please call 610.326.2900.\n\n\n\n\n\nTompkins VIST Bank Plaza opens at 5:00 PM\, seating area opens at 6:00 PM.\n\nRain date: Tuesday\, June 6\, 7:05 PM
X-ALT-DESC;FMTTYPE=text/html:<div style="text-align: center\;"><span style="font-size:18px\;"><strong>**GAME TIME HAS CHANGED TO 5:15 PM**</strong></span></div>\n<title></title>\n<p>Join thousands of fellow TCACC Members at the Reading Fightin&#39\; Phils game versus the Portland&nbsp\;Sea Dogs.<br />\n<br />\n<span style="font-size:12px\;"><span style="font-family:arial\;">Complimentary General Admission tickets are one of your <strong>Member Benefits</strong> thanks to the many sponsors of this event. 4 Tickets will be included in your May edition of the Route 422 Business Advisor. <strong>If you would like additional tickets\, please call 610.326.2900.</strong></span></span><br />\n<br />\n<br />\nTompkins&nbsp\;VIST Bank Plaza opens at 5:00 PM\, seating area opens at 6:00&nbsp\;PM.</p>\n\n<p style="text-align: justify\;">Rain date: <em>Tuesday\, June 6\, 7:05 PM</em><br />\n&nbsp\;</p>\n
LOCATION:Tompkins VIST Bank Plaza 1900 Centre Ave./Rt. 61 South Reading\, PA 19605
UID:e.2183.847556
SEQUENCE:3
DTSTAMP:20260420T213704Z
URL:https://business.tricountyareachamber.com/events/details/chamber-night-at-the-reading-fightin-phils-847556
END:VEVENT

END:VCALENDAR
