BEGIN:VCALENDAR
VERSION:2.0
PRODID:-//ChamberMaster//Event Calendar 2.0//EN
METHOD:PUBLISH
X-PUBLISHED-TTL:P3D
REFRESH-INTERVAL:P3D
CALSCALE:GREGORIAN
BEGIN:VEVENT
DTSTART:20260411T223000Z
DTEND:20260412T010000Z
X-MICROSOFT-CDO-ALLDAYEVENT:FALSE
SUMMARY:Chamber Night at the Reading Royals!
DESCRIPTION:Gear up for TriCounty Area Chamber night at the Reading Royals Fan-de-monium on April 11th and watch the Reading Royals take on the Wheeling Nailers!\n\n\n\nClick here to claim up to 4 GA tickets per member!
X-ALT-DESC;FMTTYPE=text/html:<span style="font-size:20px\;">Gear up for TriCounty Area Chamber night at the <span style="color:#0000FF\;">Reading Royals <strong>Fan-de-monium</strong></span> on April 11th and watch the Reading Royals take on the Wheeling Nailers!</span><br />\n<br />\n<span style="font-size:16px\;"><a href="https://www.gofevo.com/event/Tricounty814">Click here</a> to claim up to 4 GA tickets per member!</span><br />\n<br />\n&nbsp\;
LOCATION:Santander Arena 700 Penn St.\, Reading\, PA 19602 VIP Networking Event - Alvernia Den Section
UID:e.2183.864590
SEQUENCE:3
DTSTAMP:20260422T153614Z
URL:https://business.tricountyareachamber.com/events/details/chamber-night-at-the-reading-royals-864590
END:VEVENT

END:VCALENDAR
