BEGIN:VCALENDAR
VERSION:2.0
PRODID:-//ChamberMaster//Event Calendar 2.0//EN
METHOD:PUBLISH
X-PUBLISHED-TTL:P3D
REFRESH-INTERVAL:P3D
CALSCALE:GREGORIAN
BEGIN:VEVENT
DTSTART;VALUE=DATE:20260119
DTEND;VALUE=DATE:20260120
TRANSP:TRANSPARENT
X-MICROSOFT-CDO-ALLDAYEVENT:TRUE
SUMMARY:Chamber Office will be closed
DESCRIPTION:Chamber Office is closed in honor of Martin Luther King\, Jr. Day
X-ALT-DESC;FMTTYPE=text/html:<div class="col-sm-7 col-md-8 order-sm-first" style="outline: 0px\; box-sizing: border-box\; position: relative\; width: 1405.17px\; min-height: 1px\; padding-right: 15px\; padding-left: 15px\; flex: 0 0 66.6667%\; max-width: 66.6667%\; order: -1\; color: rgb(0\, 0\, 0)\; font-family: Arial\, Helvetica\, sans-serif\; font-size: 12px\;">\n<div class="row gz-event-description" itemprop="about" style="outline: 0px\; box-sizing: border-box\; display: flex\; flex-wrap: wrap\; margin-right: -15px\; margin-left: -15px\;">\n<div class="col" style="outline: 0px\; box-sizing: border-box\; position: relative\; width: 1405.17px\; min-height: 1px\; padding-right: 15px\; padding-left: 15px\; flex-basis: 0px\; flex-grow: 1\; max-width: 100%\;">\n<p style="outline: 0px\; box-sizing: border-box\; margin-top: 0px\; margin-bottom: 1rem\;">Chamber Office is closed in honor of Martin Luther King\, Jr. Day</p>\n</div>\n</div>\n</div>\n
LOCATION:
UID:e.2183.864527
SEQUENCE:3
DTSTAMP:20260421T173919Z
URL:https://business.tricountyareachamber.com/events/details/chamber-office-will-be-closed-01-19-2026-864527
END:VEVENT

END:VCALENDAR
