BEGIN:VCALENDAR
VERSION:2.0
PRODID:-//ChamberMaster//Event Calendar 2.0//EN
METHOD:PUBLISH
X-PUBLISHED-TTL:P3D
REFRESH-INTERVAL:P3D
CALSCALE:GREGORIAN
BEGIN:VEVENT
DTSTART;VALUE=DATE:20250217
DTEND;VALUE=DATE:20250218
TRANSP:TRANSPARENT
X-MICROSOFT-CDO-ALLDAYEVENT:TRUE
SUMMARY:Chamber Office will be closed
DESCRIPTION:Chamber Office is closed in honor of President's Day.
X-ALT-DESC;FMTTYPE=text/html:Chamber Office is closed in honor of President&#39\;s Day.
LOCATION:
UID:e.2183.861605
SEQUENCE:3
DTSTAMP:20260421T173603Z
URL:https://business.tricountyareachamber.com/events/details/chamber-office-will-be-closed-861605
END:VEVENT

END:VCALENDAR
