BEGIN:VCALENDAR
VERSION:2.0
PRODID:-//ChamberMaster//Event Calendar 2.0//EN
METHOD:PUBLISH
X-PUBLISHED-TTL:P3D
REFRESH-INTERVAL:P3D
CALSCALE:GREGORIAN
BEGIN:VEVENT
DTSTART;VALUE=DATE:20251224
DTEND;VALUE=DATE:20260105
TRANSP:TRANSPARENT
X-MICROSOFT-CDO-ALLDAYEVENT:TRUE
SUMMARY:Chamber Office will be closed
DESCRIPTION:The Chamber Office will be closed from December 25\, 2025 through January 4\, 2026.
X-ALT-DESC;FMTTYPE=text/html:The Chamber Office will be closed from December 25\, 2025 through January 4\, 2026.
LOCATION:
UID:e.2183.861611
SEQUENCE:3
DTSTAMP:20260421T173610Z
URL:https://business.tricountyareachamber.com/events/details/chamber-office-will-be-closed-861611
END:VEVENT

END:VCALENDAR
