BEGIN:VCALENDAR
VERSION:2.0
PRODID:-//ChamberMaster//Event Calendar 2.0//EN
METHOD:PUBLISH
X-PUBLISHED-TTL:P3D
REFRESH-INTERVAL:P3D
CALSCALE:GREGORIAN
BEGIN:VEVENT
DTSTART:20170429T130000Z
DTEND:20170429T210000Z
X-MICROSOFT-CDO-ALLDAYEVENT:FALSE
SUMMARY:Characteristics of Learning Differences
DESCRIPTION:Adult Education Training for Tutors and Volunteers!\n\n\n\nFeaturing Dr. Richard Cooper\, Founder and Director of the Center for Alternative Learning\, an organization dedicated to children and adults with learning differences and disabilities.\n\n\n\nMorning Session (9 AM):  Characteristics of Learning Differences\n\nAfternoon Session (1 PM): Techniques for teaching reading and math\n\n\n\nRegister by April 14.
X-ALT-DESC;FMTTYPE=text/html:Adult Education Training for Tutors and Volunteers!<br />\n<br />\nFeaturing Dr. Richard Cooper\, Founder and Director of the Center for Alternative Learning\, an organization dedicated to children and adults with learning differences and disabilities.<br />\n<br />\nMorning Session (9 AM): &nbsp\;Characteristics of Learning Differences<br />\nAfternoon Session (1 PM): Techniques for teaching reading and math<br />\n<br />\n<strong>Register by April 14.&nbsp\;</strong>
LOCATION:300 King Street Pottstown\, PA 19464
UID:e.2183.847579
SEQUENCE:3
DTSTAMP:20260420T181043Z
URL:https://business.tricountyareachamber.com/events/details/characteristics-of-learning-differences-847579
END:VEVENT

END:VCALENDAR
