BEGIN:VCALENDAR
VERSION:2.0
PRODID:-//ChamberMaster//Event Calendar 2.0//EN
METHOD:PUBLISH
X-PUBLISHED-TTL:P3D
REFRESH-INTERVAL:P3D
CALSCALE:GREGORIAN
BEGIN:VEVENT
DTSTART:20210225T220000Z
DTEND:20210225T230000Z
X-MICROSOFT-CDO-ALLDAYEVENT:FALSE
SUMMARY:CHDC Town Hall - Behavioral Health Education Series: Opioid Use Disorder\, part one
DESCRIPTION:CHDC Town Hall - Behavioral Health Education Series: Opioid Use Disorder\, part one Description An informative series on Opioid Use Disorder. Here's what we will cover in part one: - Types of Opiates/Opioids   natural vs. synthetic - What is OUD and what does it look like? - What is MAT? CHDC Presenters: Vinutha Netaji\, MD Brittany Jones\, LPN\, MAT Clinical Lead Nurse Melissa Whiting LPN\, MAT Nurse Annmarie Mollica\, Certified Medical Assistant
X-ALT-DESC;FMTTYPE=text/html:CHDC Town Hall - Behavioral Health Education Series: Opioid Use Disorder\, part one Description An informative series on Opioid Use Disorder. Here&#39\;s what we will cover in part one: - Types of Opiates/Opioids &ndash\; natural vs. synthetic - What is OUD and what does it look like? - What is MAT? CHDC Presenters: Vinutha Netaji\, MD Brittany Jones\, LPN\, MAT Clinical Lead Nurse Melissa Whiting LPN\, MAT Nurse Annmarie Mollica\, Certified Medical Assistant
LOCATION:Virtual
UID:e.2183.856492
SEQUENCE:3
DTSTAMP:20260419T134239Z
URL:https://business.tricountyareachamber.com/events/details/chdc-town-hall-behavioral-health-education-series-opioid-use-disorder-part-one-856492
END:VEVENT

END:VCALENDAR
