BEGIN:VCALENDAR
VERSION:2.0
PRODID:-//ChamberMaster//Event Calendar 2.0//EN
METHOD:PUBLISH
X-PUBLISHED-TTL:P3D
REFRESH-INTERVAL:P3D
CALSCALE:GREGORIAN
BEGIN:VEVENT
DTSTART:20170906T210000Z
DTEND:20170906T214500Z
X-MICROSOFT-CDO-ALLDAYEVENT:FALSE
SUMMARY:Children Choir Auditions
DESCRIPTION:Children ages 7-12 are invited to join the CMS Children's Choir! Under the direction of Cindy Durrell\, choir members will learn and bond together through rehearsals that incorporate movement\, rhythm and music reading. Children may sing any song they know for the audition. Call 610-489-3676 or email childrenschoir@cmsmusic.org for more information. Choir rehearsals are held September 18 through the beginning of May on Mondays 6:30-7:30pm at Community Music School. Choristers will also have the opportunity to perform for community events. Children's Choir Tuition is $434 for the year\, payable in two payments.
X-ALT-DESC;FMTTYPE=text/html:Children ages 7-12 are invited to join the CMS Children&#39\;s Choir! Under the direction of Cindy Durrell\, choir members will learn and bond together through rehearsals that incorporate movement\, rhythm and music reading. Children may sing any song they know for the audition. Call 610-489-3676 or email childrenschoir@cmsmusic.org for more information. Choir rehearsals are held September 18 through the beginning of May on Mondays 6:30-7:30pm at Community Music School. Choristers will also have the opportunity to perform for community events. Children&#39\;s Choir Tuition is $434 for the year\, payable in two payments.
LOCATION:Community Music School 775 W. Main St. Trappe\, PA 19426
UID:e.2183.848758
SEQUENCE:3
DTSTAMP:20260421T042732Z
URL:https://business.tricountyareachamber.com/events/details/children-choir-auditions-09-06-2017-848758
END:VEVENT

END:VCALENDAR
