BEGIN:VCALENDAR
VERSION:2.0
PRODID:-//ChamberMaster//Event Calendar 2.0//EN
METHOD:PUBLISH
X-PUBLISHED-TTL:P3D
REFRESH-INTERVAL:P3D
CALSCALE:GREGORIAN
BEGIN:VEVENT
DTSTART:20170325T130000Z
DTEND:20170325T160000Z
X-MICROSOFT-CDO-ALLDAYEVENT:FALSE
SUMMARY:Children's Book Author Event
DESCRIPTION:Financial expert and children's book author Lisa Werley will discuss her new book "The Giving Jar" and play money learning exercises with children at Tompkins VIST Bank's Leesport Branch on Saturday\, March 25 from 9 a.m. to noon.  Children also will receive a signed copy of the book\, take part in a coloring contest based on the book and will receive a $10 savings coupon. The event is to highlight the American Bankers Association's annual "Teach Children to Save Day" coming up next month.\n\n			\n\n			Lisa Werley\, of Shoemakersville\, is a financial counselor\, author and parent.  She and her husband\, Travis\, an agricultural lender\, also manage a working farm. Werley wrote "The Giving Jar" and Ronda Lee Seymour\, art instructor at Schuylkill Valley Middle School\, illustrated it.  The book emphasizes good life strategies including money management\, sharing and self-control.  It is the first in a series.
X-ALT-DESC;FMTTYPE=text/html:<table border="0" cellpadding="0" cellspacing="0" style="margin-left:18.9pt\;border-collapse:collapse\;">\n	<tbody>\n		<tr style="height:130px\;">\n			<td style="width:542px\;padding:0in 5.4pt 0in 5.4pt\;height:130px\;vertical-align:top\;">Financial expert and children&rsquo\;s book author Lisa Werley will discuss her new book <a href="https://www.facebook.com/johnnyjaybooks/">&ldquo\;The Giving Jar&rdquo\;</a> and play money learning exercises with children at Tompkins VIST Bank&rsquo\;s Leesport Branch on Saturday\, March 25 from 9 a.m. to noon. &nbsp\;Children also will receive a signed copy of the book\, take part in a coloring contest based on the book and will receive a $10 savings coupon. The event is to highlight the American Bankers Association&rsquo\;s annual &ldquo\;Teach Children to Save Day&rdquo\; coming up next month.<br />\n			<br />\n			<span style="font-family:times new roman\,serif\;"><span style="font-size:12.0pt\;">Lisa Werley\, of Shoemakersville\, is a financial counselor\, author and parent.&nbsp\; She and her husband\, Travis\, an agricultural lender\, also manage a working farm. Werley wrote &ldquo\;The Giving Jar&rdquo\; and Ronda Lee Seymour\, art instructor at Schuylkill Valley Middle School\, illustrated it.&nbsp\; The book emphasizes good life strategies including money management\, sharing and self-control. &nbsp\;It is the first in a series.</span></span></td>\n		</tr>\n	</tbody>\n</table>\n
LOCATION:Tompkins VIST Bank - Leesport Branch 241 Suth Centre Avenue Leesport\, PA 19533
UID:e.2183.847608
SEQUENCE:3
DTSTAMP:20260420T164140Z
URL:https://business.tricountyareachamber.com/events/details/children-s-book-author-event-847608
END:VEVENT

END:VCALENDAR
