BEGIN:VCALENDAR
VERSION:2.0
PRODID:-//ChamberMaster//Event Calendar 2.0//EN
METHOD:PUBLISH
X-PUBLISHED-TTL:P3D
REFRESH-INTERVAL:P3D
CALSCALE:GREGORIAN
BEGIN:VEVENT
DTSTART:20180324T120000Z
DTEND:20180324T163000Z
X-MICROSOFT-CDO-ALLDAYEVENT:FALSE
SUMMARY:Children's Clothing Consignment Sale
DESCRIPTION:Sale of gently used infant through teen clothing\, toys\, baby gear\, books\, sports gear\, maternity clothing and more!  \n\n50% sale - 11:00am - 12:30pm (50% off most items!)\n\n\n\nWho: Benefiting the OJR Education Foundation\n\nSellers\, Volunteers and Donators needed! Contact us at ojrefsale@gmail.com.
X-ALT-DESC;FMTTYPE=text/html:Sale of gently used infant through teen clothing\, toys\, baby gear\, books\, sports gear\, maternity clothing and more! &nbsp\;<br />\n50% sale - 11:00am - 12:30pm (50% off most items!)<br />\n<br />\nWho: Benefiting the OJR Education Foundation<br />\nSellers\, Volunteers and Donators needed! Contact us at ojrefsale@gmail.com.
LOCATION:Owen J Roberts Middle School Gymnasium 881 Ridge Road Pottstown\, PA 19465
UID:e.2183.849220
SEQUENCE:3
DTSTAMP:20260421T124327Z
URL:https://business.tricountyareachamber.com/events/details/children-s-clothing-consignment-sale-849220
END:VEVENT

END:VCALENDAR
