BEGIN:VCALENDAR
VERSION:2.0
PRODID:-//ChamberMaster//Event Calendar 2.0//EN
METHOD:PUBLISH
X-PUBLISHED-TTL:P3D
REFRESH-INTERVAL:P3D
CALSCALE:GREGORIAN
BEGIN:VEVENT
DTSTART:20231026T203000Z
DTEND:20231026T220000Z
X-MICROSOFT-CDO-ALLDAYEVENT:FALSE
SUMMARY:Cigars In the Lounge Event
DESCRIPTION:Join TriCounty Area Chamber Members at Goose's Montecristo Cigar Lounge for networking and a cigar.  Refreshments will be provided. Check out their displays and meet fellow Members\, while enjoying the lounge.\n\n\n\nThis event is free to attend\, but we do need you to register for our headcount.
X-ALT-DESC;FMTTYPE=text/html:<span style="font-size:18px\;">Join TriCounty Area Chamber Members at Goose&#39\;s Montecristo Cigar Lounge for networking and a cigar.&nbsp\; Refreshments will be provided. Check out their displays and meet fellow Members\, while enjoying the lounge.<br />\n<br />\nThis event is free to attend\, but we do need you to register for our headcount.&nbsp\;&nbsp\;</span>
LOCATION:Goose's Montecristo Cigar Lounge 250 W Ridge Pike Limerick\, PA 19468
UID:e.2183.858960
SEQUENCE:3
DTSTAMP:20260419T210448Z
URL:https://business.tricountyareachamber.com/events/details/cigars-in-the-lounge-event-858960
END:VEVENT

END:VCALENDAR
