BEGIN:VCALENDAR
VERSION:2.0
PRODID:-//ChamberMaster//Event Calendar 2.0//EN
METHOD:PUBLISH
X-PUBLISHED-TTL:P3D
REFRESH-INTERVAL:P3D
CALSCALE:GREGORIAN
BEGIN:VEVENT
DTSTART:20170911T203000Z
DTEND:20170911T220000Z
X-MICROSOFT-CDO-ALLDAYEVENT:FALSE
SUMMARY:Clambake
DESCRIPTION:Networking in a relaxed setting! Join golfers from the outing to enjoy the Clambake provided by Moyer's Catering.\n\n\n\n\n\nRain Date - Monday\, September 25\n\n\nOnline registration closes on 9/1 at 7:30 AM - please call the office if you would like to register after this time. \n\n\nRegistration Required
X-ALT-DESC;FMTTYPE=text/html:Networking in a relaxed setting! Join golfers from the outing to enjoy the Clambake provided by Moyer&#39\;s Catering.<br />\n<br />\n<br />\n<strong>Rain Date - Monday\, September 25</strong>\n<div style="text-align: center\;"><br />\n<strong style="text-align: center\; color: rgb(51\, 51\, 51)\; font-family: arial\; font-size: 12px\; line-height: 12.8px\; background-color: rgb(255\, 255\, 255)\;"><em>Online registration closes on 9/1&nbsp\;at 7:30 AM - please call the office if you would&nbsp\;like to register after this time.&nbsp\;</em></strong></div>\n<br />\n<span style="color:#FF0000\;"><em><span style="font-size:11px\;">Registration Required</span></em></span>
LOCATION:Hickory Valley Golf Club 1921 Ludwig Road Gilbertsville\, PA 19525
UID:e.2183.847701
SEQUENCE:3
DTSTAMP:20260421T024850Z
URL:https://business.tricountyareachamber.com/events/details/clambake-847701
END:VEVENT

END:VCALENDAR
