BEGIN:VCALENDAR
VERSION:2.0
PRODID:-//ChamberMaster//Event Calendar 2.0//EN
METHOD:PUBLISH
X-PUBLISHED-TTL:P3D
REFRESH-INTERVAL:P3D
CALSCALE:GREGORIAN
BEGIN:VEVENT
DTSTART:20241003T203000Z
DTEND:20241003T223000Z
X-MICROSOFT-CDO-ALLDAYEVENT:FALSE
SUMMARY:Clambake and BBQ Dinner
DESCRIPTION:What:  Clambake and BBQ Dinner Networking Event \n\n\n\nWhen: Thursday\, October 3\, 2024\n\n\n\nWhere: Bella Vista Golf Course\n\n\n\nTime:  4:30 PM Clambake and BBQ Dinner (open to all Members) at La Massaria at Bella Vista. This will follow the TCACC Golf Outing.\n\n\n\nWhy Attend: Not a golfer? We want all of our Members to join the fun.  Join us for the Dinner portion of our Golf Outing as the golfers are coming off the course.  Lots of networking\, and a delicious dinner.  \n\n\n\nDinner Buffet will include:\n\n	Clam Chowder\n	Steamed Clams\n	Carving Station for Roast Beef with horseradish cream sauce and au jus\n	BBQ Chicken\n	Baked Potatoes\n	Corn on the Cob\n	Cole Slaw\n	Rolls & Butter\n\n\nThis is our "Finish the Kegs" party!  \n\n\n*Reminder to bring cash to partake in our 50/50 and Chilling and Grilling Prize Raffle.
X-ALT-DESC;FMTTYPE=text/html:<span style="font-size: 18px\;">What:&nbsp\;<strong>&nbsp\;Clambake and BBQ Dinner Networking Event&nbsp\;</strong><br />\n<br />\nWhen:&nbsp\;<strong>Thursday\, October 3\, 2024</strong><br />\n<br />\nWhere:<strong>&nbsp\;Bella Vista Golf Course</strong><br />\n<br />\nTime:&nbsp\;<strong>&nbsp\;4:30 PM Clambake and BBQ Dinner (open to all Members) at La Massaria at Bella Vista.&nbsp\;</strong>This will follow the TCACC Golf Outing.<br />\n<br />\n<strong>Why Attend</strong>:&nbsp\;</span><strong style="text-align: center\; font-size: 18px\;">Not a golfer? We want all of our Members to join the fun.&nbsp\;&nbsp\;</strong><span style="text-align: center\; font-size: 18px\;">Join us for the&nbsp\;Dinner portion of our Golf Outing as the golfers are coming off the course.&nbsp\; Lots of networking\, and a delicious dinner.&nbsp\;&nbsp\;<br />\n<br />\n<strong>Dinner Buffet will include</strong>:</span>\n<ul>\n	<li style="text-align: left\;"><span style="text-align: center\; font-size: 18px\;">Clam Chowder</span></li>\n	<li style="text-align: left\;"><span style="text-align: center\; font-size: 18px\;">Steamed Clams</span></li>\n	<li style="text-align: left\;"><span style="text-align: center\; font-size: 18px\;">Carving Station for Roast Beef with horseradish cream sauce and au jus</span></li>\n	<li style="text-align: left\;"><span style="text-align: center\; font-size: 18px\;">BBQ Chicken</span></li>\n	<li style="text-align: left\;"><span style="text-align: center\; font-size: 18px\;">Baked Potatoes</span></li>\n	<li style="text-align: left\;"><span style="text-align: center\; font-size: 18px\;">Corn on the Cob</span></li>\n	<li style="text-align: left\;"><span style="text-align: center\; font-size: 18px\;">Cole Slaw</span></li>\n	<li style="text-align: left\;"><span style="text-align: center\; font-size: 18px\;">Rolls &amp\; Butter</span></li>\n</ul>\n\n<div style="text-align: left\;"><span style="text-align: center\; font-size: 18px\;">This is our &quot\;Finish the Kegs&quot\; party!&nbsp\;&nbsp\;</span></div>\n<br />\n<span style="font-size: 18px\;">*<em>Reminder to bring cash to partake in our 50/50 and Chilling and Grilling Prize Raffle.&nbsp\;</em></span>
LOCATION:La Massaria at Bella Vista Golf Course 2901 Fagleysville Rd\,\, Gilbertsville\, PA
UID:e.2183.861120
SEQUENCE:3
DTSTAMP:20260421T125730Z
URL:https://business.tricountyareachamber.com/events/details/clambake-and-bbq-dinner-861120
END:VEVENT

END:VCALENDAR
