BEGIN:VCALENDAR
VERSION:2.0
PRODID:-//ChamberMaster//Event Calendar 2.0//EN
METHOD:PUBLISH
X-PUBLISHED-TTL:P3D
REFRESH-INTERVAL:P3D
CALSCALE:GREGORIAN
BEGIN:VEVENT
DTSTART:20180323T233000Z
DTEND:20180324T013000Z
X-MICROSOFT-CDO-ALLDAYEVENT:FALSE
SUMMARY:Clybourne Park
DESCRIPTION:Clybourne Park is a satire about race in two Acts set fifty years apart which serve as bookends to Lorraine Hansberry's groundbreaking A Raisin in the Sun.\n\n\nAct One takes place in 1959\, in the white neighborhood resistant to the sale of a home to the Raisin's Younger family. Act Two is set in the same house in the present day in the now predominantly African American neighborhood when a white couple purchases the home. Winner of the Pulitzer Prize and the Tony Award for Best Play\, Clybourne Park is "vital\, sharp-witted and ferociously smart." [NY Times]  Directed by Domenick Scudera\, Professor of Theater.
X-ALT-DESC;FMTTYPE=text/html:<div><code><span style="font-family:granjon lt w01 italic\,georgia\,serif">Clybourne Park</span>&nbsp\;is a satire about race in two Acts set fifty years apart which serve as bookends to Lorraine Hansberry&rsquo\;s groundbreaking&nbsp\;<span style="font-family:granjon lt w01 italic\,georgia\,serif">A Raisin in the Sun</span>.</code></div>\n\n<div>\n<p><code>Act One takes place in 1959\, in the white neighborhood resistant to the sale of a home to the&nbsp\;<span style="font-family:helveticaneuew01-46ligh\,helvetica neue\,helvetica\,sans-serif">Raisin</span>&rsquo\;s Younger family. Act Two is&nbsp\;set in the same house in the present day in the now predominantly African American neighborhood when a white couple purchases the home. Winner of the Pulitzer Prize and the Tony Award for Best Play\,&nbsp\;<span style="font-family:helveticaneuew01-46ligh\,helvetica neue\,helvetica\,sans-serif">Clybourne Park</span>&nbsp\;is &ldquo\;vital\, sharp-witted and ferociously smart.&rdquo\;&nbsp\;<span style="font-family:helveticaneuew01-46ligh\,helvetica neue\,helvetica\,sans-serif">[NY Times] &nbsp\;</span>Directed by Domenick Scudera\, Professor of Theater.</code></p>\n</div>\n
LOCATION:Blackbox Studio Theater\; Kaleidoscope
UID:e.2183.850264
SEQUENCE:3
DTSTAMP:20260421T123756Z
URL:https://business.tricountyareachamber.com/events/details/clybourne-park-03-23-2018-850264
END:VEVENT

END:VCALENDAR
