BEGIN:VCALENDAR
VERSION:2.0
PRODID:-//ChamberMaster//Event Calendar 2.0//EN
METHOD:PUBLISH
X-PUBLISHED-TTL:P3D
REFRESH-INTERVAL:P3D
CALSCALE:GREGORIAN
BEGIN:VEVENT
DTSTART:20170212T003000Z
DTEND:20170212T023000Z
X-MICROSOFT-CDO-ALLDAYEVENT:FALSE
SUMMARY:CMS Faculty Artists present The Music of J.S. Bach
DESCRIPTION:In celebration of Trappe's 300th Anniversary\, CMS Faculty will perform a program dedicated to the music of J.S. Bach. Bach\, a passionate Lutheran whose beliefs and worship inspired some of the world's finest sacred music\, was an inspiration to Henry Melchoir Muhlenberg who settled in New Providence\, Pennsylvania (now known as Trappe\, PA). Trappe 300 will present a variety of events for the Collegeville-Trappe Community in 2016-2017 and CMS is thrilled to be a part of the celebrations.
X-ALT-DESC;FMTTYPE=text/html:In celebration of Trappe&rsquo\;s 300th Anniversary\, CMS Faculty will perform a program dedicated to the music of J.S. Bach. Bach\, a passionate Lutheran whose beliefs and worship inspired some of the world&rsquo\;s finest sacred music\, was an inspiration to Henry Melchoir Muhlenberg who settled in New Providence\, Pennsylvania (now known as Trappe\, PA). Trappe 300 will present a variety of events for the Collegeville-Trappe Community in 2016-2017 and CMS is thrilled to be a part of the celebrations.
LOCATION:Community Music School 775 W Main Street Trappe\, PA 19426
UID:e.2183.846034
SEQUENCE:3
DTSTAMP:20260420T152559Z
URL:https://business.tricountyareachamber.com/events/details/cms-faculty-artists-present-the-music-of-j-s-bach-02-11-2017-846034
END:VEVENT

END:VCALENDAR
