BEGIN:VCALENDAR
VERSION:2.0
PRODID:-//ChamberMaster//Event Calendar 2.0//EN
METHOD:PUBLISH
X-PUBLISHED-TTL:P3D
REFRESH-INTERVAL:P3D
CALSCALE:GREGORIAN
BEGIN:VEVENT
DTSTART:20180520T190000Z
DTEND:20180521T000000Z
X-MICROSOFT-CDO-ALLDAYEVENT:FALSE
SUMMARY:CMS MUSIC STUDENT SHOWCASE
DESCRIPTION:An annual Student Showcase Concert is held at the end of each school year to recognize the outstanding accomplishments of our students over the course of the year. Students are selected by audition for this special program and perform a variety of instrumental and vocal repertoire.
X-ALT-DESC;FMTTYPE=text/html:An annual Student Showcase Concert is held at the end of each school year to recognize the outstanding accomplishments of our students over the course of the year. Students are selected by audition for this special program and perform a variety of instrumental and vocal repertoire.
LOCATION:Community Music School 775 W. Main St. Trappe\, PA 19426
UID:e.2183.848767
SEQUENCE:3
DTSTAMP:20260424T012705Z
URL:https://business.tricountyareachamber.com/events/details/cms-music-student-showcase-848767
END:VEVENT

END:VCALENDAR
