BEGIN:VCALENDAR
VERSION:2.0
PRODID:-//ChamberMaster//Event Calendar 2.0//EN
METHOD:PUBLISH
X-PUBLISHED-TTL:P3D
REFRESH-INTERVAL:P3D
CALSCALE:GREGORIAN
BEGIN:VEVENT
DTSTART:20250222T210000Z
DTEND:20250223T000000Z
X-MICROSOFT-CDO-ALLDAYEVENT:FALSE
SUMMARY:Coldest Night of the Year Walk / Fundraiser
DESCRIPTION:The Coldest Night of the Year is a winterrific family-friendly fundraising walk in support of local charities. Let's change the tune for people experiencing hurt\, hunger\, and homelessness... because it's cold out there. Join us on February 22\, 2025 - team up\, fundraise\, and walk with us!
X-ALT-DESC;FMTTYPE=text/html:The Coldest Night of the Year is a winterrific family-friendly fundraising walk in support of local charities. Let&rsquo\;s change the tune for people experiencing hurt\, hunger\, and homelessness... because it&rsquo\;s cold out there. Join us on February 22\, 2025 - team up\, fundraise\, and walk with us!
LOCATION:YWCA Tri-County Area 301 King Street Pottstown\, PA 19464
UID:e.2183.861682
SEQUENCE:3
DTSTAMP:20260421T175011Z
URL:https://business.tricountyareachamber.com/events/details/coldest-night-of-the-year-walk-fundraiser-861682
END:VEVENT

END:VCALENDAR
