BEGIN:VCALENDAR
VERSION:2.0
PRODID:-//ChamberMaster//Event Calendar 2.0//EN
METHOD:PUBLISH
X-PUBLISHED-TTL:P3D
REFRESH-INTERVAL:P3D
CALSCALE:GREGORIAN
BEGIN:VEVENT
DTSTART:20170422T123000Z
DTEND:20170422T140000Z
X-MICROSOFT-CDO-ALLDAYEVENT:FALSE
SUMMARY:Color Run
DESCRIPTION:The Inaugural Race Against Racism\, a 5K Color Run\, will raise money to support future racial justice programming and events provided by YWCA Tri-County Area.\n\n\n\nAll participants will receive a t-shirt\, sunglasses\, a color packet and finisher's medal. T-shirts are guaranteed for registrations submitted by April 1.\n\n\n\nRace begins at 8:30 AM on Saturday\, April 22
X-ALT-DESC;FMTTYPE=text/html:The Inaugural Race Against Racism\, a 5K Color Run\, will raise money to support future racial justice programming and events provided by YWCA Tri-County Area.<br />\n<br />\nAll participants will receive a t-shirt\, sunglasses\, a color packet and finisher&#39\;s medal. T-shirts are guaranteed for registrations submitted by April 1.<br />\n<br />\nRace begins at 8:30 AM on Saturday\, April 22
LOCATION:Riverfront Park Trailhead 140 College Drive (adjacent to Schuylkill River Heritage Area Office) Pottstown\, PA 19464
UID:e.2183.847578
SEQUENCE:3
DTSTAMP:20260420T181746Z
URL:https://business.tricountyareachamber.com/events/details/color-run-847578
END:VEVENT

END:VCALENDAR
