BEGIN:VCALENDAR
VERSION:2.0
PRODID:-//ChamberMaster//Event Calendar 2.0//EN
METHOD:PUBLISH
X-PUBLISHED-TTL:P3D
REFRESH-INTERVAL:P3D
CALSCALE:GREGORIAN
BEGIN:VEVENT
DTSTART:20170518T133000Z
DTEND:20170518T150000Z
X-MICROSOFT-CDO-ALLDAYEVENT:FALSE
SUMMARY:Combating Cyber Threats
DESCRIPTION:Ransomware! Spear-Phishing! Identity Theft! Oh my! How did we get into this digital security mess? Join Jeremy Wheeler from Alpine Cyber Solutions as he discusses the past\, present\, and future of the ever changing cyber security threat landscape. Find out what you should be doing to protect yourself and what your business can do to increase its information security vigilance! \n\nThis workshop will cover such topics as:\n\n  The evolution of digital threats\n\n  Alarming cyber security facts\n\n  Steps to protect your identity\n\n\n\nReservation is required - seating is limited.
X-ALT-DESC;FMTTYPE=text/html:<p style="margin: 0px\; padding: 0px 0px 8px\; line-height: normal\; color: rgb(69\, 73\, 78)\; font-family: &quot\;Helvetica Neue&quot\;\, Helvetica\, Arial\, sans-serif\; font-size: 13.2px\; letter-spacing: 0.5px\;"><span class="s1" style="font-kerning: none\; color: rgb(0\, 0\, 0)\;"><span style="font-weight: 700\;">Ransomware! Spear-Phishing! Identity Theft! Oh my!</span>&nbsp\;How did we get into this digital security mess? Join Jeremy Wheeler from Alpine Cyber Solutions as he discusses the past\, present\, and future of the ever changing cyber security threat landscape. Find out what you should be doing to protect yourself and what your business can do to increase its information security vigilance!&nbsp\;</span></p>\n\n<p style="margin: 0px\; padding: 0px 0px 8px\; line-height: normal\; color: rgb(69\, 73\, 78)\; font-family: &quot\;Helvetica Neue&quot\;\, Helvetica\, Arial\, sans-serif\; font-size: 13.2px\; letter-spacing: 0.5px\;"><span style="font-weight: 700\;"><span class="s1" style="font-kerning: none\; color: rgb(0\, 0\, 0)\;">This worksh</span><span class="s1" style="font-kerning: none\; color: rgb(0\, 0\, 0)\;">op will cover such topics as:</span></span></p>\n\n<p style="margin: 0px\; padding: 0px 0px 8px\; line-height: normal\; color: rgb(69\, 73\, 78)\; font-family: &quot\;Helvetica Neue&quot\;\, Helvetica\, Arial\, sans-serif\; font-size: 13.2px\; letter-spacing: 0.5px\;"><span class="s2" style="font-kerning: none\; color: rgb(0\, 0\, 0)\;">&bull\;&nbsp\;</span><span class="s1" style="font-kerning: none\; color: rgb(0\, 0\, 0)\;">The evolution of digital threats</span></p>\n\n<p style="margin: 0px\; padding: 0px 0px 8px\; line-height: normal\; color: rgb(69\, 73\, 78)\; font-family: &quot\;Helvetica Neue&quot\;\, Helvetica\, Arial\, sans-serif\; font-size: 13.2px\; letter-spacing: 0.5px\;"><span class="s2" style="font-kerning: none\; color: rgb(0\, 0\, 0)\;">&bull\;&nbsp\;</span><span class="s1" style="font-kerning: none\; color: rgb(0\, 0\, 0)\;">Alarming cyber security facts</span></p>\n\n<p style="margin: 0px\; padding: 0px 0px 8px\; line-height: normal\; color: rgb(69\, 73\, 78)\; font-family: &quot\;Helvetica Neue&quot\;\, Helvetica\, Arial\, sans-serif\; font-size: 13.2px\; letter-spacing: 0.5px\;"><span class="s2" style="font-kerning: none\; color: rgb(0\, 0\, 0)\;">&bull\;&nbsp\;</span><span class="s1" style="font-kerning: none\; color: rgb(0\, 0\, 0)\;">Steps to protect your identity<br />\n<br />\nReservation is required - seating is limited.</span></p>\n
LOCATION:Productivity Pointe 152 East High Street\, Suite 440 Pottstown\, PA 19464
UID:e.2183.847665
SEQUENCE:3
DTSTAMP:20260420T200028Z
URL:https://business.tricountyareachamber.com/events/details/combating-cyber-threats-847665
END:VEVENT

END:VCALENDAR
