BEGIN:VCALENDAR
VERSION:2.0
PRODID:-//ChamberMaster//Event Calendar 2.0//EN
METHOD:PUBLISH
X-PUBLISHED-TTL:P3D
REFRESH-INTERVAL:P3D
CALSCALE:GREGORIAN
BEGIN:VEVENT
DTSTART:20260418T150000Z
DTEND:20260418T200000Z
X-MICROSOFT-CDO-ALLDAYEVENT:FALSE
SUMMARY:Coming Out of Hibernation
DESCRIPTION:Come out of hibernation and welcome spring in downtown Boyertown.  Stroll down Philadelphia Ave with artisan vendors\, food trucks\, family activities and so much more! Help wake Bearianne from her long winter slumber!
X-ALT-DESC;FMTTYPE=text/html:<span style="color:rgb(34\, 34\, 34)\; font-family:plusjakartasans\,roboto\,sans-serif\; font-size:16px">Come out of hibernation and welcome spring in downtown Boyertown.&nbsp\; Stroll down Philadelphia Ave with artisan vendors\, food trucks\, family activities and so much more! Help wake Bearianne from her long winter slumber!</span>
LOCATION:This event is outside on East Philadelphia Avenue in downtown Boyertown PA
UID:e.2183.864593
SEQUENCE:3
DTSTAMP:20260422T154157Z
URL:https://business.tricountyareachamber.com/events/details/coming-out-of-hibernation-04-18-2026-864593
END:VEVENT

END:VCALENDAR
