BEGIN:VCALENDAR
VERSION:2.0
PRODID:-//ChamberMaster//Event Calendar 2.0//EN
METHOD:PUBLISH
X-PUBLISHED-TTL:P3D
REFRESH-INTERVAL:P3D
CALSCALE:GREGORIAN
BEGIN:VEVENT
DTSTART:20171104T120000Z
DTEND:20171104T160000Z
X-MICROSOFT-CDO-ALLDAYEVENT:FALSE
SUMMARY:Community 5K Color Run
DESCRIPTION:Saturday\, November 4th -- Girl Scout Troop #1797 is hosting a FUN Community 5K Color Run!  Come on out and have a blast while supporting a local Girl Scout troop.  There will be a DJ to get your blood pumping\, food\, a bake sale to satisfy your energy cravings\, awards to the top runners\, and vendors selling their latest products.  \n\nRegistration and packet pick up start at 8am.  Race begins at 9:00am - there will be multiple groups starting at different times\, to allow for everyone to get their fair share of color!  After race celebration begins at 11:00am\, with a DJ pumping your favorite tunes and food & snacks to purchase to replenish your energy.  Additional color packets available to purchase as supplies last.  Awards will be given out at this time -- you must be present to receive.  Various vendors also will be on site to sell their products.  PLEASE DO NOT DRIVE OR PARK ON ANY GRASSY AREAS - you will be towed.\n\nNo refunds for the event.  Registrations are final.  \n\nRace Fee includes: registration\, timing cost\, bib tag\, & t-shirt (t-shirts only available to order thru 10/13/17-- so hurry and register!)
X-ALT-DESC;FMTTYPE=text/html:<p style="color: rgb(16\, 99\, 134)\; font-size: 14px\; padding: 0px\; line-height: 23px\; margin: 0px 0px 10px\; font-family: &quot\;Open Sans&quot\;\, sans-serif\; background-color: rgb(255\, 255\, 255)\;">Saturday\, November 4th -- Girl Scout Troop #1797 is hosting a FUN Community 5K Color Run! &nbsp\;Come on out and have a blast while supporting a local Girl Scout troop. &nbsp\;There will be a DJ to get your blood pumping\, food\, a bake sale to satisfy your energy cravings\, awards to the top runners\, and vendors selling their latest products. &nbsp\;</p>\n\n<p style="color: rgb(16\, 99\, 134)\; font-size: 14px\; padding: 0px\; line-height: 23px\; margin: 0px 0px 10px\; font-family: &quot\;Open Sans&quot\;\, sans-serif\; background-color: rgb(255\, 255\, 255)\;">Registration and packet pick up start at 8am. &nbsp\;Race begins at 9:00am - there will be multiple groups starting at different times\, to allow for everyone to get their fair share of color! &nbsp\;After race celebration begins at 11:00am\, with a DJ pumping your favorite tunes and food &amp\; snacks to purchase to replenish your energy. &nbsp\;Additional color packets available to purchase as supplies last. &nbsp\;Awards will be given out at this time -- you must be present to receive. &nbsp\;Various vendors also will be on site to sell their products. &nbsp\;PLEASE DO NOT DRIVE OR PARK ON ANY GRASSY AREAS - you will be towed.</p>\n\n<p style="color: rgb(16\, 99\, 134)\; font-size: 14px\; padding: 0px\; line-height: 23px\; margin: 0px 0px 10px\; font-family: &quot\;Open Sans&quot\;\, sans-serif\; background-color: rgb(255\, 255\, 255)\;">No refunds for the event. &nbsp\;Registrations are final. &nbsp\;</p>\n\n<p style="color: rgb(16\, 99\, 134)\; font-size: 14px\; padding: 0px\; line-height: 23px\; margin: 0px 0px 10px\; font-family: &quot\;Open Sans&quot\;\, sans-serif\; background-color: rgb(255\, 255\, 255)\;">Race Fee includes: registration\, timing cost\, bib tag\, &amp\; t-shirt (t-shirts only available to order thru 10/13/17-- so hurry and register!)</p>\n
LOCATION:Amity Community Park Weavertown Road (across from the township building) Douglassville\, PA US 19518
UID:e.2183.848843
SEQUENCE:3
DTSTAMP:20260421T060901Z
URL:https://business.tricountyareachamber.com/events/details/community-5k-color-run-848843
END:VEVENT

END:VCALENDAR
