BEGIN:VCALENDAR
VERSION:2.0
PRODID:-//ChamberMaster//Event Calendar 2.0//EN
METHOD:PUBLISH
X-PUBLISHED-TTL:P3D
REFRESH-INTERVAL:P3D
CALSCALE:GREGORIAN
BEGIN:VEVENT
DTSTART:20170206T213000Z
DTEND:20170207T000000Z
X-MICROSOFT-CDO-ALLDAYEVENT:FALSE
SUMMARY:Community Dinner Night Buffet
DESCRIPTION:Reservations Preferred - 610.489.7272x106 - tickets may also be purchased in advance with reservation.\n\n\n\nMenu Available at www.westerncenter.org.\n\n\n\nFuture dates: \n\nMarch 6\n\nMay 1
X-ALT-DESC;FMTTYPE=text/html:<div>Reservations Preferred - 610.489.7272x106 - tickets may also be purchased in advance with reservation.</div>\n\n<div style="text-align: center\;"><br />\n<b>Menu Available at www.westerncenter.org.<br />\n<br />\nFuture dates:&nbsp\;</b><br />\nMarch 6<br />\nMay 1</div>\n
LOCATION:Western Montgomery Career & Technology Center 77 Graterford Road Limerick\, PA 19468
UID:e.2183.847350
SEQUENCE:3
DTSTAMP:20260420T151211Z
URL:https://business.tricountyareachamber.com/events/details/community-dinner-night-buffet-847350
END:VEVENT

END:VCALENDAR
