BEGIN:VCALENDAR
VERSION:2.0
PRODID:-//ChamberMaster//Event Calendar 2.0//EN
METHOD:PUBLISH
X-PUBLISHED-TTL:P3D
REFRESH-INTERVAL:P3D
CALSCALE:GREGORIAN
BEGIN:VEVENT
DTSTART:20170625T170000Z
DTEND:20170625T200000Z
X-MICROSOFT-CDO-ALLDAYEVENT:FALSE
SUMMARY:Community Fair
DESCRIPTION:Healthy Families Raising Health Children\n\n\n	Face Painting\n	Music\n	Diabetes\n	Prizes\n	Home Safety\n	Adult Health Screenings\n	Drug and Tobacco Free Awareness\n	Healthy Kids Kitchen\n	Moon Bounce\n	Puppets Story Hour\n	AND Take a walk through a giant colon!
X-ALT-DESC;FMTTYPE=text/html:<div style="text-align: center\;"><span style="font-size:16px\;"><em><strong>Healthy Families Raising Health Children</strong></em></span></div>\n\n<ul>\n	<li>Face Painting</li>\n	<li>Music</li>\n	<li>Diabetes</li>\n	<li>Prizes</li>\n	<li>Home Safety</li>\n	<li>Adult Health Screenings</li>\n	<li>Drug and Tobacco Free Awareness</li>\n	<li>Healthy Kids Kitchen</li>\n	<li>Moon Bounce</li>\n	<li>Puppets Story Hour</li>\n	<li>AND Take a walk through a giant colon!</li>\n</ul>\n
LOCATION:Smith Family Plaza 138 E. High St. Pottstown\, PA 19464
UID:e.2183.847700
SEQUENCE:3
DTSTAMP:20260420T213301Z
URL:https://business.tricountyareachamber.com/events/details/community-fair-847700
END:VEVENT

END:VCALENDAR
