BEGIN:VCALENDAR
VERSION:2.0
PRODID:-//ChamberMaster//Event Calendar 2.0//EN
METHOD:PUBLISH
X-PUBLISHED-TTL:P3D
REFRESH-INTERVAL:P3D
CALSCALE:GREGORIAN
BEGIN:VEVENT
DTSTART:20171021T140000Z
DTEND:20171021T160000Z
X-MICROSOFT-CDO-ALLDAYEVENT:FALSE
SUMMARY:Community Field Day
DESCRIPTION:Community Field Day - Wellness Council joins Boyertown Soccer Club!\n\n\n\nFamily fun\, games & prizes!
X-ALT-DESC;FMTTYPE=text/html:Community Field Day - Wellness Council joins Boyertown Soccer Club!<br />\n<br />\nFamily fun\, games &amp\; prizes!
LOCATION:Washington Elementary 1406 PA-100 Barto\, PA 19504
UID:e.2183.848741
SEQUENCE:3
DTSTAMP:20260421T042538Z
URL:https://business.tricountyareachamber.com/events/details/community-field-day-848741
END:VEVENT

END:VCALENDAR
