BEGIN:VCALENDAR
VERSION:2.0
PRODID:-//ChamberMaster//Event Calendar 2.0//EN
METHOD:PUBLISH
X-PUBLISHED-TTL:P3D
REFRESH-INTERVAL:P3D
CALSCALE:GREGORIAN
BEGIN:VEVENT
DTSTART:20161116T220000Z
DTEND:20161117T010000Z
X-MICROSOFT-CDO-ALLDAYEVENT:FALSE
SUMMARY:Community Mixer
DESCRIPTION:Come to Novembers Community Mixer to benefit Hobarts Run.
X-ALT-DESC;FMTTYPE=text/html:<span class="_4n-j fsl">Come to Novembers Community Mixer to benefit Hobarts Run.</span>
LOCATION:@107 107 E. High St. Pottstown\, PA 19464
UID:e.2183.847359
SEQUENCE:3
DTSTAMP:20260422T113003Z
URL:https://business.tricountyareachamber.com/events/details/community-mixer-847359
END:VEVENT

END:VCALENDAR
