BEGIN:VCALENDAR
VERSION:2.0
PRODID:-//ChamberMaster//Event Calendar 2.0//EN
METHOD:PUBLISH
X-PUBLISHED-TTL:P3D
REFRESH-INTERVAL:P3D
CALSCALE:GREGORIAN
BEGIN:VEVENT
DTSTART:20180509T210000Z
DTEND:20180510T000000Z
X-MICROSOFT-CDO-ALLDAYEVENT:FALSE
SUMMARY:Community Mixer
DESCRIPTION:Come to May's Community Mixer to benefit Mosaic Community Land Trust.
X-ALT-DESC;FMTTYPE=text/html:<span class="_4n-j fsl">Come to May&#39\;s Community Mixer to benefit Mosaic Community Land Trust.</span>
LOCATION:The Avenue 107 E. High St. Pottstown\, PA 19464
UID:e.2183.850460
SEQUENCE:3
DTSTAMP:20260424T012719Z
URL:https://business.tricountyareachamber.com/events/details/community-mixer-850460
END:VEVENT

END:VCALENDAR
