BEGIN:VCALENDAR
VERSION:2.0
PRODID:-//ChamberMaster//Event Calendar 2.0//EN
METHOD:PUBLISH
X-PUBLISHED-TTL:P3D
REFRESH-INTERVAL:P3D
CALSCALE:GREGORIAN
BEGIN:VEVENT
DTSTART:20161107T213000Z
DTEND:20161108T000000Z
X-MICROSOFT-CDO-ALLDAYEVENT:FALSE
SUMMARY:Community Night Dinner Buffet
DESCRIPTION:Reservations Preferred - 610.489.7272x106 - tickets may also be purchased in advance with reservation.\n\n\n\nAppetizers\n\nEndive\, Watercress and Pear Salad with Lemon Dressing\n\nNew England Clam Chowder\n\n\n\nEntrees\n\nSage Butter Roast Turkey with Spicy Sausage and Apple Dressing\n\nGrilled Salmon with Lobster Butter\n\nWhipped Potatoes and Giblet Gravy\n\nMaple Glazed Roasted Autumn Vegetables\n\nCranberry Chutney\n\n\n\nDesserts\n\nPumpkin Pie with Sweetened Whipped Cream\n\nWarm Apple Cobbler with Vanilla Ice Cream\n\n\n\nAssorted Beverages
X-ALT-DESC;FMTTYPE=text/html:<div>Reservations Preferred - 610.489.7272x106 - tickets may also be purchased in advance with reservation.</div>\n\n<div style="text-align: center\;"><br />\n<strong>Appetizers</strong><br />\nEndive\, Watercress and Pear Salad with Lemon Dressing<br />\nNew England Clam Chowder<br />\n<br />\n<strong>Entrees</strong><br />\nSage Butter Roast Turkey with Spicy Sausage and Apple Dressing<br />\nGrilled Salmon with Lobster Butter<br />\nWhipped Potatoes and Giblet Gravy<br />\nMaple Glazed Roasted Autumn Vegetables<br />\nCranberry Chutney<br />\n<br />\n<strong>Desserts</strong><br />\nPumpkin Pie with Sweetened Whipped Cream<br />\nWarm Apple Cobbler with Vanilla Ice Cream<br />\n<br />\n<strong>Assorted Beverages</strong></div>\n
LOCATION:Western Montgomery Career & Technology Center 77 Graterford Road Limerick\, PA 19468
UID:e.2183.847346
SEQUENCE:3
DTSTAMP:20260422T112638Z
URL:https://business.tricountyareachamber.com/events/details/community-night-dinner-buffet-847346
END:VEVENT

END:VCALENDAR
