BEGIN:VCALENDAR
VERSION:2.0
PRODID:-//ChamberMaster//Event Calendar 2.0//EN
METHOD:PUBLISH
X-PUBLISHED-TTL:P3D
REFRESH-INTERVAL:P3D
CALSCALE:GREGORIAN
BEGIN:VEVENT
DTSTART:20171106T213000Z
DTEND:20171107T000000Z
X-MICROSOFT-CDO-ALLDAYEVENT:FALSE
SUMMARY:Community Night Dinner Buffet
DESCRIPTION:Reservations Preferred - 610.489.7272x138 - tickets may also be purchased in advance with reservation.\n\n\n\nAppetizers\n\nPear\, Cranberry and Kale Salad with Pumpkin Dressing\n\nRoasted Butternut Squash Soup with Cinnamon Cream\n\n\n\nEntrees\n\nSage Butter Roast Turkey\n\nHomemade Cornbread and Spicy Sausage Dressing\n\nGrilled Salmon with Apple Cider Butter Sauce\n\nWhipped Potatoes and Giblet Gravy\n\nRoasted Autumn Vegetables\n\nCranberry-Rosemary Chutney\n\nMaple Glazed Sweet Potatoes\n\n\n\nDesserts\n\nPumpkin Pie with Whipped Cream\n\nWarm Apple Cobbler with Vanilla Ice Cream\n\n\n\nAssorted Beverages
X-ALT-DESC;FMTTYPE=text/html:<div>Reservations Preferred - 610.489.7272x138&nbsp\;- tickets may also be purchased in advance with reservation.</div>\n\n<div style="text-align: center\;"><br />\n<strong>Appetizers</strong><br />\nPear\, Cranberry and Kale Salad with Pumpkin Dressing<br />\nRoasted Butternut Squash Soup with Cinnamon Cream<br />\n<br />\n<strong>Entrees</strong><br />\nSage Butter Roast Turkey<br />\nHomemade Cornbread and Spicy Sausage Dressing<br />\nGrilled Salmon with Apple Cider Butter Sauce<br />\nWhipped Potatoes and Giblet Gravy<br />\nRoasted Autumn&nbsp\;Vegetables<br />\nCranberry-Rosemary Chutney<br />\n<span style="color: rgb(51\, 51\, 51)\; font-family: sans-serif\, Arial\, Verdana\, &quot\;Trebuchet MS&quot\;\; font-size: 13px\; text-align: center\; background-color: rgb(255\, 255\, 255)\;">Maple Glazed Sweet Potatoes</span><br />\n<br />\n<strong>Desserts</strong><br />\nPumpkin Pie with Whipped Cream<br />\nWarm Apple Cobbler with Vanilla Ice Cream<br />\n<br />\n<strong>Assorted Beverages</strong></div>\n
LOCATION:Western Montgomery Career & Technology Center 77 Graterford Road Limerick\, PA 19468
UID:e.2183.848813
SEQUENCE:3
DTSTAMP:20260421T060639Z
URL:https://business.tricountyareachamber.com/events/details/community-night-dinner-buffet-848813
END:VEVENT

END:VCALENDAR
