BEGIN:VCALENDAR
VERSION:2.0
PRODID:-//ChamberMaster//Event Calendar 2.0//EN
METHOD:PUBLISH
X-PUBLISHED-TTL:P3D
REFRESH-INTERVAL:P3D
CALSCALE:GREGORIAN
BEGIN:VEVENT
DTSTART:20180205T213000Z
DTEND:20180206T000000Z
X-MICROSOFT-CDO-ALLDAYEVENT:FALSE
SUMMARY:Community Night Dinner Buffet
DESCRIPTION:A Taste of New England\n\nReservations Preferred - 610.489.7272x138 - tickets may also be purchased in advance with reservation.\n\n\n\nAppetizers\n\nField Greens\, Roasted Apples\, Blue Cheese\, Spiced Walnuts\, Lemon Vinaigrette\n\nNew England Clam Chowder\n\n\n\nEntrees\n\nYankee Pot Roast w/ Roasted Root Vegetables\n\nNew England Baked Cod\n\nBaked Lobster Mac & Cheese\n\nChicken Pot Pie\n\nRoasted Salt & Pepper Potatoes w/ Thyme\n\nClam & Corn Fritters w/ Tartar Sauce\n\nAssorted Breads\, Homemade Butters & Jams\n\n\n\nDesserts\n\nBoston Cream Pie\n\nMake Your Own Strawberry Shortcake\n\n\n\nAssorted Beverages
X-ALT-DESC;FMTTYPE=text/html:<div style="text-align: center\;"><strong>A Taste of New England</strong></div>\n\n<div>Reservations Preferred - 610.489.7272x138&nbsp\;- tickets may also be purchased in advance with reservation.</div>\n\n<div style="text-align: center\;"><br />\n<strong>Appetizers</strong><br />\nField Greens\, Roasted Apples\, Blue Cheese\, Spiced Walnuts\, Lemon Vinaigrette<br />\nNew England Clam Chowder<br />\n<br />\n<strong>Entrees</strong><br />\nYankee Pot Roast w/ Roasted Root Vegetables<br />\nNew England Baked Cod<br />\nBaked Lobster Mac &amp\; Cheese<br />\nChicken Pot Pie<br />\nRoasted Salt &amp\; Pepper Potatoes w/ Thyme<br />\nClam &amp\; Corn Fritters w/ Tartar Sauce<br />\nAssorted Breads\, Homemade Butters &amp\; Jams<br />\n<br />\n<strong>Desserts</strong><br />\nBoston Cream Pie<br />\nMake Your Own Strawberry Shortcake<br />\n<br />\n<strong>Assorted Beverages</strong></div>\n
LOCATION:Western Montgomery Career & Technology Center 77 Graterford Road Limerick\, PA 19468
UID:e.2183.849157
SEQUENCE:3
DTSTAMP:20260421T123503Z
URL:https://business.tricountyareachamber.com/events/details/community-night-dinner-buffet-849157
END:VEVENT

END:VCALENDAR
