BEGIN:VCALENDAR
VERSION:2.0
PRODID:-//ChamberMaster//Event Calendar 2.0//EN
METHOD:PUBLISH
X-PUBLISHED-TTL:P3D
REFRESH-INTERVAL:P3D
CALSCALE:GREGORIAN
BEGIN:VEVENT
DTSTART:20250322T130000Z
DTEND:20250322T170000Z
X-MICROSOFT-CDO-ALLDAYEVENT:FALSE
SUMMARY:Community Recycling Day
DESCRIPTION:Bring your recyclables to the Althouse Arboretum and our student volunteers will remove all items and recycle them properly.   This event is rain or shine!    Start your spring clean up now!\n\nThis is a "DRIVE THROUGH" event.  You must bring everything in your vehicle and drive them to the Althouse Arboretum.  There will be plenty of students there to unload.\n\nThe cost is $10 per vehicle\, with no other charges.\n\nWe accept:\n\nAll kinds of  large appliances:  ovens\, refrigerators\, microwaves\, freezers\, etc.  All items must be cleaned out. Do not tape door shut.\n\nAir conditioners and dehumidifiers    With freon.\n\nClothing and Shoes:  We are accepting all clothing and shoes (please separate).  Place in large plastic bags\, if possible\n\nHousehold Goods:  Includes utensils\, small working electronics\, hard and soft toys\, knickknacks\, etc  Please place in bags.\n\nNO furniture\, books or pillows\n\nAll types of metal!  Anything made mostly of metal.  Includes scrap metal.  NO propane tanks.   Any motors must be drained of all gasoline and oil.\n\nWires and cords.\n\nLaptops\, ipads\, cell phones and computer ink cartridges  (no toner cartridges)\n\nYOU WILL BE SUPPORTING GREENALLIES\, THE ALTHOUSE ARBORETUM\, AND SEVERAL OTHER NONPROFITS
X-ALT-DESC;FMTTYPE=text/html:<p>Bring your recyclables to the Althouse Arboretum and our student volunteers will remove all items and recycle them properly.&nbsp\; &nbsp\;This event is rain or shine!&nbsp\; &nbsp\; Start your spring clean up now!</p>\n\n<p>This is a &ldquo\;DRIVE THROUGH&rdquo\; event.&nbsp\; You must bring everything in your vehicle and drive them to the Althouse Arboretum.&nbsp\; There will be plenty of students there to unload.</p>\n\n<p>The cost is $10 per vehicle\, with no other charges.</p>\n\n<p>We accept:</p>\n\n<p>All kinds of&nbsp\;&nbsp\;large appliances:&nbsp\; ovens\, refrigerators\, microwaves\, freezers\, etc.&nbsp\; All items must be cleaned out. Do not tape door shut.</p>\n\n<p>Air conditioners and dehumidifiers&nbsp\; &nbsp\;&nbsp\;With freon.</p>\n\n<p>Clothing and Shoes:&nbsp\; We are accepting all clothing and shoes (please separate).&nbsp\; Place in large plastic bags\, if possible</p>\n\n<p>Household Goods:&nbsp\; Includes utensils\, small working electronics\, hard and soft toys\, knickknacks\, etc&hellip\; Please place in bags.</p>\n\n<p>NO furniture\, books or pillows</p>\n\n<p>All types of metal!&nbsp\; Anything made mostly of metal.&nbsp\; Includes scrap metal.&nbsp\; NO propane tanks.&nbsp\; &nbsp\;Any motors must be drained of all gasoline and oil.</p>\n\n<p>Wires and cords.</p>\n\n<p>Laptops\, ipads\, cell phones and computer ink cartridges&nbsp\; (no toner cartridges)</p>\n\n<h4>YOU WILL BE SUPPORTING GREENALLIES\, THE ALTHOUSE ARBORETUM\, AND SEVERAL OTHER NONPROFITS</h4>\n
LOCATION:Althouse Arboretum 1794 Gilbertsville Road Pottstown\, PA 19464
UID:e.2183.861709
SEQUENCE:3
DTSTAMP:20260421T125828Z
URL:https://business.tricountyareachamber.com/events/details/community-recycling-day-861709
END:VEVENT

END:VCALENDAR
