BEGIN:VCALENDAR
VERSION:2.0
PRODID:-//ChamberMaster//Event Calendar 2.0//EN
METHOD:PUBLISH
X-PUBLISHED-TTL:P3D
REFRESH-INTERVAL:P3D
CALSCALE:GREGORIAN
BEGIN:VEVENT
DTSTART:20171021T130000Z
DTEND:20171021T170000Z
X-MICROSOFT-CDO-ALLDAYEVENT:FALSE
SUMMARY:Community Shred Event
DESCRIPTION:Come out on Saturday\, October 21 at Ambler Savings Bank's new Bally branch for a community Shred Day! The branch will be open\, so come in and check out the bank and open your new account!\n\n\n\nFREE AND OPEN TO THE GENERAL PUBLIC!
X-ALT-DESC;FMTTYPE=text/html:<span style="color: rgb(29\, 33\, 41)\; font-family: Helvetica\, Arial\, sans-serif\; font-size: 14px\; background-color: rgb(255\, 255\, 255)\;">Come out on Saturday\, October 21 at Ambler Savings Bank&#39\;s new Bally branch for a community Shred Day! The branch will be open\, so come in and check out the bank and open your new account!<br />\n<br />\nFREE AND OPEN TO THE GENERAL PUBLIC!</span>
LOCATION:Bally Savings Bank\, a division of Ambler Savings Bank
UID:e.2183.848820
SEQUENCE:3
DTSTAMP:20260421T043036Z
URL:https://business.tricountyareachamber.com/events/details/community-shred-event-848820
END:VEVENT

END:VCALENDAR
