BEGIN:VCALENDAR
VERSION:2.0
PRODID:-//ChamberMaster//Event Calendar 2.0//EN
METHOD:PUBLISH
X-PUBLISHED-TTL:P3D
REFRESH-INTERVAL:P3D
CALSCALE:GREGORIAN
BEGIN:VEVENT
DTSTART:20180327T230000Z
DTEND:20180328T000000Z
X-MICROSOFT-CDO-ALLDAYEVENT:FALSE
SUMMARY:Could It Be My Thyroid?
DESCRIPTION:Weight gain\, cold hands and feet\, hair loss\, constipation\, heart palpitations\, depression\, fatigue\, low libido\, insomnia and brain fog are all symptoms of a dysfunctional thyroid. And it's one of the most common conditions we handle at CFNH. Cindy Harrington\, Advanced Nutrition Response Testing practitioner and master health educator\, will explain how the body (including the thyroid) can heal safely and naturally. The seminar is free and refreshments will be served. A complimentary health scan\, including a test of the thyroid\, will be offered to each attendee after this event. Join us! Call 484-938-7691 to reserve your seat.
X-ALT-DESC;FMTTYPE=text/html:Weight gain\, cold hands and feet\, hair loss\, constipation\, heart palpitations\, depression\, fatigue\, low libido\, insomnia and brain fog are all symptoms of a dysfunctional thyroid. And it&rsquo\;s one of the most common conditions we handle at CFNH. Cindy Harrington\, Advanced Nutrition Response Testing practitioner and master health educator\, will explain how the body (including the thyroid) can heal safely and naturally. The seminar is free and refreshments will be served. A complimentary health scan\, including a test of the thyroid\, will be offered to each attendee after this event. Join us! Call 484-938-7691 to reserve your seat.
LOCATION:Center for Nutritional Healing 567 Church Street\, Suite C Royersford\, PA 19468
UID:e.2183.849490
SEQUENCE:3
DTSTAMP:20260421T123634Z
URL:https://business.tricountyareachamber.com/events/details/could-it-be-my-thyroid-03-21-2018-849490
END:VEVENT

END:VCALENDAR
